BEGIN:VCALENDAR
VERSION:2.0
PRODID:-//Meiburg Wine Media - ECPv6.15.14//NONSGML v1.0//EN
CALSCALE:GREGORIAN
METHOD:PUBLISH
X-ORIGINAL-URL:https://mwminternational.com
X-WR-CALDESC:Events for Meiburg Wine Media
REFRESH-INTERVAL;VALUE=DURATION:PT1H
X-Robots-Tag:noindex
X-PUBLISHED-TTL:PT1H
BEGIN:VTIMEZONE
TZID:Asia/Hong_Kong
BEGIN:STANDARD
TZOFFSETFROM:+0800
TZOFFSETTO:+0800
TZNAME:HKT
DTSTART:20210101T000000
END:STANDARD
END:VTIMEZONE
BEGIN:VEVENT
DTSTART;TZID=Asia/Hong_Kong:20221015T100000
DTEND;TZID=Asia/Hong_Kong:20221015T183000
DTSTAMP:20260425T181625
CREATED:20220922T051644Z
LAST-MODIFIED:20220922T051644Z
UID:10000130-1665828000-1665858600@mwminternational.com
SUMMARY:The Whisky Ambassador - Hybrid Course (Macau)
DESCRIPTION:15 Oct 2022 (Saturday) – 10am-6:30pm \nExam: 15 Oct 2022 (same day) – after class \n \nThe Whisky Ambassador – The first certificate training in Macau \nWhisky Ambassador is designed for anyone who wishes to gain thorough knowledge and confidence around whisky. The program is recognised by BIIAB\, UK’s leading provider of qualifications for the licensed trade. Upon completion\, participants will get the prestigious The Whisky Ambassador’ BIIAB accredited certificate. \nSpecial Offer: \n\n10% off for 2 persons or above\n\nThe Whisky Ambassador course covers: \n\n\nWhisky Areas of Scotland and influence to the Style \n\n\nHistory of Scotch Whisky \n\n\nWhisky Production\, and the Categories of Whisky explained (single malt\, single grain\, blended\, blended malt\, blended grain) \n\n\nNosing and tasting\, in a systematic approach \n\n\nWhisky Mixers and Cocktails \n\n\nWhisky Sales Technique \n\n\nAt the end of the training\, you can attend the exam to acquire The Whisky Ambassador Certificate.  \n6 whiskies for guided tasting\, including all categories of Scotch whiskies \nPrerequisite\nAll applicants must be over 18+ \nExamination\n45 minutes Exam \n30 multiple-choice questions (70% passing grade)A practical tasting test \nVenue\nWine Hub Macau / MWM Wine School \n \nEddie Nara CSEEddie is a renowned spirits industry leader and Whisky & Gin Ambassador lead tutor for HK\, Macau and China. He is Asia’s 1st Certified Spirits Educator accredited by the Society of Wine Educators\, an International Spirits judge for IWSC and HKIWSC and an esteemed cocktail judge. Although known for his passion for all spirits\, Eddie has a deep knowledge and understanding of both Scotch and world whiskies. Eddie’s commitment to education is invaluable to the industry and he is a mentor and inspiration to many aspiring bar professionals across Asia. \n  \n \nThe Whisky AmbassadorThe Whisky Ambassador programme is the original accredited Scotch Whisky training course. Designed both for the Licensed trade and those seeking a comprehensive grasp of Scotch\, the course gives you the knowledge\, skills and confidence to talk to customers about Scotland’s national drink\, furthermore improving customer experience and exponentially increasing sales of Scotland in a glass.® Having been established for a number of years in Scotland\, the Whisky Ambassador’s emphasis on immersive and interactive learning has seen our courses rapidly expand to spread intimate knowledge of Scotch whisky across 22 countries and six continents. \nIn collaboration with  \nMacau Sommelier Association \n \nWine Hub Macau
URL:https://mwminternational.com/events/the-whisky-ambassador-hybrid-course-macau-1/
LOCATION:Wine Hub Macau\, No. 4A R/C Travessa De Martinho Montenegro Edf. Nga San D Building\,\, Macau
CATEGORIES:Certificate Course,Spirits,Whisky Ambassador
ATTACH;FMTTYPE=image/jpeg:https://mwminternational.com/wp-content/uploads/2022/09/THE-WHISKY-AMBASSADOR-1.jpg
END:VEVENT
BEGIN:VEVENT
DTSTART;TZID=Asia/Hong_Kong:20220911T100000
DTEND;TZID=Asia/Hong_Kong:20220911T183000
DTSTAMP:20260425T181625
CREATED:20220830T071609Z
LAST-MODIFIED:20220830T071609Z
UID:10000277-1662890400-1662921000@mwminternational.com
SUMMARY:The Whisky Ambassador - Hybrid Course (Macau)
DESCRIPTION:11 Sep 2022 (Sunday) – 10am-6:30pm \nExam: 11 Sep 2022 (same day) – after class \n \nThe Whisky Ambassador – The first certificate training in Macau \nWhisky Ambassador is designed for anyone who wishes to gain thorough knowledge and confidence around whisky. The program is recognised by BIIAB\, UK’s leading provider of qualifications for the licensed trade. Upon completion\, participants will get the prestigious The Whisky Ambassador’ BIIAB accredited certificate. \nSpecial Offer: \n\n10% off for 2 persons or above\n\nThe Whisky Ambassador course covers: \n\n\nWhisky Areas of Scotland and influence to the Style \n\n\nHistory of Scotch Whisky \n\n\nWhisky Production\, and the Categories of Whisky explained (single malt\, single grain\, blended\, blended malt\, blended grain) \n\n\nNosing and tasting\, in a systematic approach \n\n\nWhisky Mixers and Cocktails \n\n\nWhisky Sales Technique \n\n\nAt the end of the training\, you can attend the exam to acquire The Whisky Ambassador Certificate.  \n6 whiskies for guided tasting\, including all categories of Scotch whiskies \nPrerequisite\nAll applicants must be over 18+ \nExamination\n45 minutes Exam \n30 multiple-choice questions (70% passing grade)A practical tasting test \nVenue\nWine Hub Macau / MWM Wine School \n \nEddie Nara CSEEddie is a renowned spirits industry leader and Whisky & Gin Ambassador lead tutor for HK\, Macau and China. He is Asia’s 1st Certified Spirits Educator accredited by the Society of Wine Educators\, an International Spirits judge for IWSC and HKIWSC and an esteemed cocktail judge. Although known for his passion for all spirits\, Eddie has a deep knowledge and understanding of both Scotch and world whiskies. Eddie’s commitment to education is invaluable to the industry and he is a mentor and inspiration to many aspiring bar professionals across Asia. \n  \n \nThe Whisky AmbassadorThe Whisky Ambassador programme is the original accredited Scotch Whisky training course. Designed both for the Licensed trade and those seeking a comprehensive grasp of Scotch\, the course gives you the knowledge\, skills and confidence to talk to customers about Scotland’s national drink\, furthermore improving customer experience and exponentially increasing sales of Scotland in a glass.® Having been established for a number of years in Scotland\, the Whisky Ambassador’s emphasis on immersive and interactive learning has seen our courses rapidly expand to spread intimate knowledge of Scotch whisky across 22 countries and six continents. \nIn collaboration with  \nMacau Sommelier Association \n \nWine Hub Macau
URL:https://mwminternational.com/events/the-whisky-ambassador-macau-3/
LOCATION:Wine Hub Macau\, No. 4A R/C Travessa De Martinho Montenegro Edf. Nga San D Building\,\, Macau
CATEGORIES:Certificate Course,Spirits,Whisky Ambassador
ATTACH;FMTTYPE=image/jpeg:https://mwminternational.com/wp-content/uploads/2022/08/Whisky-Ambassador-2022-12-scaled.jpg
END:VEVENT
BEGIN:VEVENT
DTSTART;TZID=Asia/Hong_Kong:20220731T100000
DTEND;TZID=Asia/Hong_Kong:20220731T183000
DTSTAMP:20260425T181625
CREATED:20220604T094217Z
LAST-MODIFIED:20220621T111225Z
UID:10000248-1659261600-1659292200@mwminternational.com
SUMMARY:The Whisky Ambassador (Macau)
DESCRIPTION:31 July 2022 (Sunday) – 10am-4:30pm \nExam: 31 July 2022 (same day) – after 5pm \n \nThe Whisky Ambassador – The first certificate training in Macau \nWhisky Ambassador is designed for anyone who wishes to gain thorough knowledge and confidence around whisky. The program is recognised by BIIAB\, UK’s leading provider of qualifications for the licensed trade. Upon completion\, participants will get the prestigious The Whisky Ambassador’ BIIAB accredited certificate. \nSpecial Offer: \n\n10% off for 2 persons or above\n\nThe Whisky Ambassador course covers: \n\n\nWhisky Areas of Scotland and influence to the Style \n\n\nHistory of Scotch Whisky \n\n\nWhisky Production\, and the Categories of Whisky explained (single malt\, single grain\, blended\, blended malt\, blended grain) \n\n\nNosing and tasting\, in a systematic approach \n\n\nWhisky Mixers and Cocktails \n\n\nWhisky Sales Technique \n\n\nAt the end of the training\, you can attend the exam to acquire The Whisky Ambassador Certificate.  \n6 whiskies for guided tasting\, including all categories of Scotch whiskies \nPrerequisite\nAll applicants must be over 18+ \nExamination\n45 minutes Exam \n30 multiple-choice questions (70% passing grade)A practical tasting test \n \nEddie Nara CSEEddie is a renowned spirits industry leader and Whisky & Gin Ambassador lead tutor for HK\, Macau and China. He is Asia’s 1st Certified Spirits Educator accredited by the Society of Wine Educators\, an International Spirits judge for IWSC and HKIWSC and an esteemed cocktail judge. Although known for his passion for all spirits\, Eddie has a deep knowledge and understanding of both Scotch and world whiskies. Eddie’s commitment to education is invaluable to the industry and he is a mentor and inspiration to many aspiring bar professionals across Asia. \n  \n \nThe Whisky AmbassadorThe Whisky Ambassador programme is the original accredited Scotch Whisky training course. Designed both for the Licensed trade and those seeking a comprehensive grasp of Scotch\, the course gives you the knowledge\, skills and confidence to talk to customers about Scotland’s national drink\, furthermore improving customer experience and exponentially increasing sales of Scotland in a glass.® Having been established for a number of years in Scotland\, the Whisky Ambassador’s emphasis on immersive and interactive learning has seen our courses rapidly expand to spread intimate knowledge of Scotch whisky across 22 countries and six continents. \nIn collaboration with  \nMacau Sommelier Association \n \nWine Hub Macau
URL:https://mwminternational.com/events/the-whisky-ambassador-macau/
LOCATION:Wine Hub Macau\, No. 4A R/C Travessa De Martinho Montenegro Edf. Nga San D Building\,\, Macau
CATEGORIES:Certificate Course,Spirits,Whisky Ambassador
ATTACH;FMTTYPE=image/jpeg:https://mwminternational.com/wp-content/uploads/2022/06/Whisky-Ambassador-macau-2022-12.jpg
END:VEVENT
END:VCALENDAR