BEGIN:VCALENDAR
VERSION:2.0
PRODID:-//Meiburg Wine Media - ECPv6.15.14//NONSGML v1.0//EN
CALSCALE:GREGORIAN
METHOD:PUBLISH
X-ORIGINAL-URL:https://mwminternational.com
X-WR-CALDESC:Events for Meiburg Wine Media
REFRESH-INTERVAL;VALUE=DURATION:PT1H
X-Robots-Tag:noindex
X-PUBLISHED-TTL:PT1H
BEGIN:VTIMEZONE
TZID:Asia/Hong_Kong
BEGIN:STANDARD
TZOFFSETFROM:+0800
TZOFFSETTO:+0800
TZNAME:HKT
DTSTART:20170101T000000
END:STANDARD
END:VTIMEZONE
BEGIN:VEVENT
DTSTART;TZID=Asia/Hong_Kong:20180301T180000
DTEND;TZID=Asia/Hong_Kong:20180301T213000
DTSTAMP:20260422T022120
CREATED:20180118T104619Z
LAST-MODIFIED:20180218T093006Z
UID:10000029-1519927200-1519939800@mwminternational.com
SUMMARY:Women of Wine Festival 2018
DESCRIPTION:Women of Wine Festival (WoW) 2018  \nWines by Women | Inspirational Seminars | Wine Tasting Masterclass \n  \nWOW! – Toast International Women’s Day with wow-worthy women and wines by women from around the world\, at Hong Kong’s WoW Festival. In Hong Kong exclusively for WoW is keynote speaker – actress\, film producer\, director and UNICEF Ambassador Trudie Styler – who’ll present Il Palagio Estate wines from Tuscany\, owned by her and her husband\, music legend\, Sting. \n  \n• Grand tasting of 100+ global wines by women \n• Meet Hong Kong’s dynamic female wine suppliers \n• Wine Tasting Workshops by international winemakers & Asia’s most renowned wine experts \n\nRethink Pink – Explore and Celebrate 200 Years of Rose Champagne\, featuring Veuve Clicquot\nOld Vs New – Discover Classic & Trending Wines from Key Wine Regions\n\n• Leading women in finance\, media\, fashion\, business\, food\, wine and more\, at thought-provoking Panel Discussions \n\nFuture Leaders – Modern Leadership and Defining Your Leadership Style\nNext Gen – Next Decade’s Top Industries & Growth Opportunities to Prime Your Career\n\n• Free-flow Veuve Clicquot Champagne upon arrival \n  \nA few of the note-worthy speakers include: \n  \n\nRandy Lai\, CEO – McDonald’s Hong Kong\nNick Marsh\, Managing Director\, Executive Search – Harvey Nash\, Asia\nTricia Yap\, Co-Founder – Warrior Academy & Director of Fitness – Goji Studios\nXania Wong\, CEO – JOBDOH and Xantana Wine Xociety\nGina Wong\, Film Director\, Artist & Founder – Pineapple Underground Film Festival\nDebra Meiburg\, Master of Wine – Meiburg Wine Media\nGaëlle Goossens\, Winemaker – Veuve Clicquot\n\n…And many more. \n  \n1 Mar 2018 | 6:30pm – 9:30pm\n  \nTicket Price:\nGeneral Admission – HK$450\nInclusive of:\n– Grand Tasting\n– Free-flow Champagne\, by Veuve Clicquot\n– Pop-up workshops\nPremium Access – HK$780\nInclusive of:\n– Grand Tasting\n– Free-flow Champagne\, by Veuve Clicquot\n– Pop-up workshops\n– 1 session of Inspiration Seminar / Wine Workshop\nFULL Access – HK$950\nInclusive of:\n– Grand Tasting\n– Free-flow Champagne\, by Veuve Clicquot\n– Pop-up workshops\n– 2 sessions of Inspiration Seminar / Wine Workshop \n  \n  \n  \n  \nBook your tickets NOW \n 
URL:https://mwminternational.com/events/wow2018/
LOCATION:The Murray\, Hong Kong\, a Niccolo Hotel\, 22 Cotton Tree Drive\, Central\, Hong Kong
CATEGORIES:Festival,Industry Events
END:VEVENT
END:VCALENDAR