BEGIN:VCALENDAR
VERSION:2.0
PRODID:-//Meiburg Wine Media - ECPv6.15.14//NONSGML v1.0//EN
CALSCALE:GREGORIAN
METHOD:PUBLISH
X-ORIGINAL-URL:https://mwminternational.com
X-WR-CALDESC:Events for Meiburg Wine Media
REFRESH-INTERVAL;VALUE=DURATION:PT1H
X-Robots-Tag:noindex
X-PUBLISHED-TTL:PT1H
BEGIN:VTIMEZONE
TZID:Asia/Hong_Kong
BEGIN:STANDARD
TZOFFSETFROM:+0800
TZOFFSETTO:+0800
TZNAME:HKT
DTSTART:20240101T000000
END:STANDARD
END:VTIMEZONE
BEGIN:VEVENT
DTSTART;TZID=Asia/Hong_Kong:20250526T150000
DTEND;TZID=Asia/Hong_Kong:20250526T170000
DTSTAMP:20260420T160552
CREATED:20250416T095239Z
LAST-MODIFIED:20250519T092942Z
UID:10000481-1748271600-1748278800@mwminternational.com
SUMMARY:Taste of South Australia @ Burnt Ends
DESCRIPTION:26 May (Mon) | 3-5pm | Venue: Burnt Ends 7 Dempsey Rd\, Singapore | Wine Industry Professionals and Media Only \nBy invitations only\, please request invitation here \nJoin 28 SA wineries at one-Michelin starred Singapore venue\, Burnt Ends\, for a mouth-watering afternoon. Graze on a custom Burnt Ends menu\, delve into SA’s key regions and meet-the-makers at this blockbuster 2-hour trade tasting session\, This is an exclusive opportunity for wine industry professionals to connect\, learn\, and experience the best of South Australian wine\, launching your Vinexpo Singapore week in style. \nWhat to Expect:\n– Meet the Makers: Taste wines from South Australia’s top regions and hear directly from the producers behind them.\n– Discover Emerging Styles: Explore the classics\, contemporary styles and emerging trends from this renowned wine region.\n– Bespoke Burnt Ends Menu: Indulge in a custom BBQ feast\, an ideal accompaniment for tasting the SA wines on offer\n– Taste\, Relax\, Connect: Enjoy a laid-back afternoon with great tunes and the chance to network with sommeliers\, importers\, distributors\, and wine professionals from across Asia. \nA Snapshot of Wines to Watch:\n* Sons of Eden – bold Barossa reds with tradition\n* Barristers Block – cool-climate finesse\n* Bekkers – seamless McLaren Vale elegance\n* Brothers At War – bold wines with youthful edge\n* Chalk Hill – small-batch\, organically focused\n* Cirillo – profound Grenache from century-old vines\n* Corryton Burge – modern wines from a Barossa legacy\n* Hesketh & Parker Estate – globally inspired\, locally rooted\n* Hickinbotham & Yangarra – biodynamic & boundary-pushing\n* Mitolo – bold Italian flair in McLaren Vale\n… plus 15+ more producers! \nWines for tasting: \nMetala / Thorn Clarke | Langhorne Creek \nGolden Amrita | Barossa Valley \nJinlian Pty Ltd | Southern Fleurieu \nDewey Station Wines | Barossa Valley \nMurray Street Vineyards | Barossa Valley \nSons of Eden | Barossa Barossa Valley Eden Valley \nChateau Tanunda | Barossa Barossa Valley South Australia South Eastern Australia \nThe Connection Piece  (Bekkers\, Chalk Hill\, Cirillo\, Raidis) | Barossa Coonawarra McLaren Vale \nHeirloom Vineyards | Adelaide Hills Barossa Coonawarra Eden Valley McLaren Vale Fleurieu \nEight at the Gate Wines | Wrattonbully \nParker Estate and Hesketh Wines | Adelaide Hills Coonawarra Limestone Coast \nGreenock Creek Wines | Barossa Valley \nHATCH Wines / Lienert Vineyards | Barossa \nMillon Wines | Barossa Valley Clare Valley Eden Valley \nKilikanoon | Clare Valley \nAngove Family Winemakers | McLaren Vale Tasmania South Australia \nBrothers At War | Barossa Valley Eden Valley \nSevenhill Cellars | Clare Valley \nAtze’s Corner Wine | Barossa Valley \nWakefield Wines | Clare Valley \nSchubert Estate / Hare’s Chase | Barossa Valley \nBarristers Block | Boston Bay Wines | Adelaide Hills Wrattonbully The Peninsulas \nSoul Growers | Barossa South Australia \nWELLAND | Barossa \nCorryton Burge | Adelaide Hills Barossa Eden Valley Tasmania \nRymill | Coonawarra
URL:https://mwminternational.com/events/taste-of-south-australia-burnt-ends/
LOCATION:Burnt Ends\, 7 Dempsey Rd\, #01-02\, Singapore
CATEGORIES:Festival,Industry Events,Wine
ATTACH;FMTTYPE=image/jpeg:https://mwminternational.com/wp-content/uploads/2025/04/Trade-taste-of-SA-no-distillers.jpg
END:VEVENT
END:VCALENDAR