BEGIN:VCALENDAR
VERSION:2.0
PRODID:-//Meiburg Wine Media - ECPv6.15.14//NONSGML v1.0//EN
CALSCALE:GREGORIAN
METHOD:PUBLISH
X-ORIGINAL-URL:https://mwminternational.com
X-WR-CALDESC:Events for Meiburg Wine Media
REFRESH-INTERVAL;VALUE=DURATION:PT1H
X-Robots-Tag:noindex
X-PUBLISHED-TTL:PT1H
BEGIN:VTIMEZONE
TZID:Asia/Hong_Kong
BEGIN:STANDARD
TZOFFSETFROM:+0800
TZOFFSETTO:+0800
TZNAME:HKT
DTSTART:20190101T000000
END:STANDARD
END:VTIMEZONE
BEGIN:VEVENT
DTSTART;TZID=Asia/Hong_Kong:20200720T193000
DTEND;TZID=Asia/Hong_Kong:20200916T220000
DTSTAMP:20260421T233543
CREATED:20200707T125042Z
LAST-MODIFIED:20200707T140131Z
UID:10000180-1595273400-1600293600@mwminternational.com
SUMMARY:WSET Level 3 Award in Wine (Regular)
DESCRIPTION:Every Sunday –\n11\, 18 Oct\, 1 \, 8\, 15\, 22\, 29 Nov ( No class on 25th Oct due to Chung Yeung Festival holiday)
URL:https://mwminternational.com/events/wset-level-3-award-in-wine-regular/
LOCATION:MWM Wine School\, 9th Floor\, Aberdeen Industrial Building\, 236 Aberdeen Main Road\, Aberdeen\, Hong Kong
CATEGORIES:Wine,WSET L3 Wine
ORGANIZER;CN="MWM Wine School":MAILTO:school@mwminternational.com
END:VEVENT
END:VCALENDAR