BEGIN:VCALENDAR
VERSION:2.0
PRODID:-//Meiburg Wine Media - ECPv6.15.14//NONSGML v1.0//EN
CALSCALE:GREGORIAN
METHOD:PUBLISH
X-ORIGINAL-URL:https://mwminternational.com
X-WR-CALDESC:Events for Meiburg Wine Media
REFRESH-INTERVAL;VALUE=DURATION:PT1H
X-Robots-Tag:noindex
X-PUBLISHED-TTL:PT1H
BEGIN:VTIMEZONE
TZID:Asia/Hong_Kong
BEGIN:STANDARD
TZOFFSETFROM:+0800
TZOFFSETTO:+0800
TZNAME:HKT
DTSTART:20190101T000000
END:STANDARD
END:VTIMEZONE
BEGIN:VEVENT
DTSTART;TZID=Asia/Hong_Kong:20201020T193000
DTEND;TZID=Asia/Hong_Kong:20201124T223000
DTSTAMP:20260420T073615
CREATED:20200925T081626Z
LAST-MODIFIED:20200925T081626Z
UID:10000042-1603222200-1606257000@mwminternational.com
SUMMARY:WSET Level 2 Award in Wine (Regular)
DESCRIPTION:3\, 10\, 17\, 24\, 31 May - 7 June (Monday) \nExam: 5 July 2021 \n \n  \nWant to be able to taste\, enjoy\, select\, and assess wines with confidence and professionalism? Level 2 will answer these questions you may have: \n\nWhy wines are in different style and quality?\nHow to identify principle white and red grape varieties and styles?\nWhat are the key wine producing countries and regions\nWhy sparkling wines sparkle?\nHow are sweet and fortified wines made?\nHow to read wine labels?\n\nIn 16-hour fun but structured and comprehensive course\, you will be able to acquire in-depth knowledge of wines and spirits and want to obtain an internationally recognised wine qualification. \nSpeaker \n \nMs. Anty Fung \nA DipWSET\, Certified Sommelier and Certified Specialist of Wine\, Anty currently divides her time between managing Hip Cellar\, a professional wine storage and a wine-and-dine concept AnOther Place\, developing profile variety for the online wine trading platform WWXplorer and teaching WSET courses at MWM Wine School by Debra Meiburg MW. Anty has diversified her global understanding of wine and food and beverage management with professional exposure in Hong Kong\, Las Vegas and Maldives. \nCourse Structure\n16 tutoring hours \nExamination\n60 minutes50 multiple-choice questions55% passing grade \nPrerequisite\nNo previous knowledge required\, but completion of WSET Level 1 or equivalent recommended.All applicants must be over 18+ \n\n\n\n\n\n\n\n\n 
URL:https://mwminternational.com/events/wset-level-2-award-in-wine-regular-4/
LOCATION:MWM Wine School\, 9th Floor\, Aberdeen Industrial Building\, 236 Aberdeen Main Road\, Aberdeen\, Hong Kong
CATEGORIES:Wine,WSET,WSET L2 Wine
ORGANIZER;CN="MWM Wine School":MAILTO:school@mwminternational.com
END:VEVENT
BEGIN:VEVENT
DTSTART;TZID=Asia/Hong_Kong:20200926T120000
DTEND;TZID=Asia/Hong_Kong:20201017T180000
DTSTAMP:20260420T073615
CREATED:20200707T082509Z
LAST-MODIFIED:20210331T122338Z
UID:10000179-1601121600-1602957600@mwminternational.com
SUMMARY:WSET Level 2 Award in Wine (Intensive)
DESCRIPTION:3\, 10\, 17\, 24\, 31 May - 7 June (Monday) \nExam: 5 July 2021 \n \n  \nWant to be able to taste\, enjoy\, select\, and assess wines with confidence and professionalism? Level 2 will answer these questions you may have: \n\nWhy wines are in different style and quality?\nHow to identify principle white and red grape varieties and styles?\nWhat are the key wine producing countries and regions\nWhy sparkling wines sparkle?\nHow are sweet and fortified wines made?\nHow to read wine labels?\n\nIn 16-hour fun but structured and comprehensive course\, you will be able to acquire in-depth knowledge of wines and spirits and want to obtain an internationally recognised wine qualification. \nSpeaker \n \nMs. Anty Fung \nA DipWSET\, Certified Sommelier and Certified Specialist of Wine\, Anty currently divides her time between managing Hip Cellar\, a professional wine storage and a wine-and-dine concept AnOther Place\, developing profile variety for the online wine trading platform WWXplorer and teaching WSET courses at MWM Wine School by Debra Meiburg MW. Anty has diversified her global understanding of wine and food and beverage management with professional exposure in Hong Kong\, Las Vegas and Maldives. \nCourse Structure\n16 tutoring hours \nExamination\n60 minutes50 multiple-choice questions55% passing grade \nPrerequisite\nNo previous knowledge required\, but completion of WSET Level 1 or equivalent recommended.All applicants must be over 18+ \n\n\n\n\n\n\n\n\n 
URL:https://mwminternational.com/events/wset-level-2-award-in-wine-intensive1/
LOCATION:MWM Wine School\, 9th Floor\, Aberdeen Industrial Building\, 236 Aberdeen Main Road\, Aberdeen\, Hong Kong
CATEGORIES:Wine,WSET,WSET L2 Wine
ORGANIZER;CN="MWM Wine School":MAILTO:school@mwminternational.com
END:VEVENT
BEGIN:VEVENT
DTSTART;TZID=Asia/Hong_Kong:20200918T193000
DTEND;TZID=Asia/Hong_Kong:20201030T223000
DTSTAMP:20260420T073615
CREATED:20200819T033043Z
LAST-MODIFIED:20200914T081001Z
UID:10000027-1600457400-1604097000@mwminternational.com
SUMMARY:WSET Level 2 Award in Wine (Hybrid Study Mode)
DESCRIPTION:3\, 10\, 17\, 24\, 31 May - 7 June (Monday) \nExam: 5 July 2021 \n \n  \nWant to be able to taste\, enjoy\, select\, and assess wines with confidence and professionalism? Level 2 will answer these questions you may have: \n\nWhy wines are in different style and quality?\nHow to identify principle white and red grape varieties and styles?\nWhat are the key wine producing countries and regions\nWhy sparkling wines sparkle?\nHow are sweet and fortified wines made?\nHow to read wine labels?\n\nIn 16-hour fun but structured and comprehensive course\, you will be able to acquire in-depth knowledge of wines and spirits and want to obtain an internationally recognised wine qualification. \nSpeaker \n \nMs. Anty Fung \nA DipWSET\, Certified Sommelier and Certified Specialist of Wine\, Anty currently divides her time between managing Hip Cellar\, a professional wine storage and a wine-and-dine concept AnOther Place\, developing profile variety for the online wine trading platform WWXplorer and teaching WSET courses at MWM Wine School by Debra Meiburg MW. Anty has diversified her global understanding of wine and food and beverage management with professional exposure in Hong Kong\, Las Vegas and Maldives. \nCourse Structure\n16 tutoring hours \nExamination\n60 minutes50 multiple-choice questions55% passing grade \nPrerequisite\nNo previous knowledge required\, but completion of WSET Level 1 or equivalent recommended.All applicants must be over 18+ \n\n\n\n\n\n\n\n\n 
URL:https://mwminternational.com/events/wset-level-2-award-in-wine-online-friday/
LOCATION:MWM Wine School\, 9th Floor\, Aberdeen Industrial Building\, 236 Aberdeen Main Road\, Aberdeen\, Hong Kong
CATEGORIES:Hybrid Study Mode Course,Wine,WSET,WSET L2 Wine
ORGANIZER;CN="MWM Wine School":MAILTO:school@mwminternational.com
END:VEVENT
BEGIN:VEVENT
DTSTART;TZID=Asia/Hong_Kong:20200721T193000
DTEND;TZID=Asia/Hong_Kong:20200922T213000
DTSTAMP:20260420T073615
CREATED:20200707T080726Z
LAST-MODIFIED:20200710T071923Z
UID:10000122-1595359800-1600810200@mwminternational.com
SUMMARY:WSET Level 2 Award in Wine (Regular)
DESCRIPTION:3\, 10\, 17\, 24\, 31 May - 7 June (Monday) \nExam: 5 July 2021 \n \n  \nWant to be able to taste\, enjoy\, select\, and assess wines with confidence and professionalism? Level 2 will answer these questions you may have: \n\nWhy wines are in different style and quality?\nHow to identify principle white and red grape varieties and styles?\nWhat are the key wine producing countries and regions\nWhy sparkling wines sparkle?\nHow are sweet and fortified wines made?\nHow to read wine labels?\n\nIn 16-hour fun but structured and comprehensive course\, you will be able to acquire in-depth knowledge of wines and spirits and want to obtain an internationally recognised wine qualification. \nSpeaker \n \nMs. Anty Fung \nA DipWSET\, Certified Sommelier and Certified Specialist of Wine\, Anty currently divides her time between managing Hip Cellar\, a professional wine storage and a wine-and-dine concept AnOther Place\, developing profile variety for the online wine trading platform WWXplorer and teaching WSET courses at MWM Wine School by Debra Meiburg MW. Anty has diversified her global understanding of wine and food and beverage management with professional exposure in Hong Kong\, Las Vegas and Maldives. \nCourse Structure\n16 tutoring hours \nExamination\n60 minutes50 multiple-choice questions55% passing grade \nPrerequisite\nNo previous knowledge required\, but completion of WSET Level 1 or equivalent recommended.All applicants must be over 18+ \n\n\n\n\n\n\n\n\n 
URL:https://mwminternational.com/events/wset-level-2-award-in-wine-regular/
LOCATION:MWM Wine School\, 9th Floor\, Aberdeen Industrial Building\, 236 Aberdeen Main Road\, Aberdeen\, Hong Kong
CATEGORIES:Wine,WSET,WSET L2 Wine
ORGANIZER;CN="MWM Wine School":MAILTO:school@mwminternational.com
END:VEVENT
BEGIN:VEVENT
DTSTART;TZID=Asia/Hong_Kong:20200711T120000
DTEND;TZID=Asia/Hong_Kong:20200725T180000
DTSTAMP:20260420T073615
CREATED:20200706T084907Z
LAST-MODIFIED:20200707T125230Z
UID:10000121-1594468800-1595700000@mwminternational.com
SUMMARY:WSET Level 2 Award in Wine (Intensive)
DESCRIPTION:3\, 10\, 17\, 24\, 31 May - 7 June (Monday) \nExam: 5 July 2021 \n \n  \nWant to be able to taste\, enjoy\, select\, and assess wines with confidence and professionalism? Level 2 will answer these questions you may have: \n\nWhy wines are in different style and quality?\nHow to identify principle white and red grape varieties and styles?\nWhat are the key wine producing countries and regions\nWhy sparkling wines sparkle?\nHow are sweet and fortified wines made?\nHow to read wine labels?\n\nIn 16-hour fun but structured and comprehensive course\, you will be able to acquire in-depth knowledge of wines and spirits and want to obtain an internationally recognised wine qualification. \nSpeaker \n \nMs. Anty Fung \nA DipWSET\, Certified Sommelier and Certified Specialist of Wine\, Anty currently divides her time between managing Hip Cellar\, a professional wine storage and a wine-and-dine concept AnOther Place\, developing profile variety for the online wine trading platform WWXplorer and teaching WSET courses at MWM Wine School by Debra Meiburg MW. Anty has diversified her global understanding of wine and food and beverage management with professional exposure in Hong Kong\, Las Vegas and Maldives. \nCourse Structure\n16 tutoring hours \nExamination\n60 minutes50 multiple-choice questions55% passing grade \nPrerequisite\nNo previous knowledge required\, but completion of WSET Level 1 or equivalent recommended.All applicants must be over 18+ \n\n\n\n\n\n\n\n\n 
URL:https://mwminternational.com/events/wset-level-2-award-in-wine/
LOCATION:MWM Wine School\, 9th Floor\, Aberdeen Industrial Building\, 236 Aberdeen Main Road\, Aberdeen\, Hong Kong
CATEGORIES:Wine,WSET L2 Wine
ORGANIZER;CN="MWM Wine School":MAILTO:school@mwminternational.com
END:VEVENT
END:VCALENDAR