BEGIN:VCALENDAR
VERSION:2.0
PRODID:-//Meiburg Wine Media - ECPv6.15.14//NONSGML v1.0//EN
CALSCALE:GREGORIAN
METHOD:PUBLISH
X-ORIGINAL-URL:https://mwminternational.com
X-WR-CALDESC:Events for Meiburg Wine Media
REFRESH-INTERVAL;VALUE=DURATION:PT1H
X-Robots-Tag:noindex
X-PUBLISHED-TTL:PT1H
BEGIN:VTIMEZONE
TZID:Asia/Hong_Kong
BEGIN:STANDARD
TZOFFSETFROM:+0800
TZOFFSETTO:+0800
TZNAME:HKT
DTSTART:20240101T000000
END:STANDARD
END:VTIMEZONE
BEGIN:VEVENT
DTSTART;TZID=Asia/Hong_Kong:20250903T123000
DTEND;TZID=Asia/Hong_Kong:20250903T133000
DTSTAMP:20260421T001456
CREATED:20250827T051629Z
LAST-MODIFIED:20250827T161636Z
UID:10000514-1756902600-1756906200@mwminternational.com
SUMMARY:Unlock the Secrets of Napa’s Latest Trends
DESCRIPTION:Join us for a special Meet the Winemaker event featuring Reilly Keenan\, third-generation vintner of Keenan Winery on Napa Valley’s renowned Spring Mountain.\n\nDuring this exclusive visit\, Reilly will share insights into Spring Mountain viticulture and guide us through a selection of Keenan’s acclaimed wines:\n\n 	Robert Keenan Chardonnay\, Napa Valley Spring Mountain 2021\n 	Robert Keenan Cabernet Sauvignon\, Spring Mountain District Reserve 2019\n 	Robert Keenan Merlot\, Napa Valley 2019\n 	Robert Keenan Merlot\, Spring Mountain Proprietary Red 2019\n\nThis is a unique opportunity to hear firsthand about family winemaking\, mountain terroir\, and the craftsmanship behind one of Napa Valley’s enduring estates. We look forward to welcoming Reilly and tasting these exceptional wines together.\n\n \n\nReilly Keenan\n\nWorking alongside his father\, Michael Keenan\, Reilly represents the next generation of this celebrated mountain estate\, bringing both deep-rooted tradition and a fresh perspective to the family legacy.\n\nHaving worked every harvest since the age of sixteen\, Reilly has grown up among the estate vines and remains closely involved in winery operations. Today\, he leads consumer and trade events\, hosts tastings\, and champions Keenan’s commitment to sustainable farming and authentic mountain winemaking. True to the family philosophy\, Keenan wines are crafted without commercial shortcuts—focused instead on structure\, balance\, and the distinctive character of high-elevation vineyards.
URL:https://mwminternational.com/events/unlock-the-secrets-of-napas-latest-trends/
LOCATION:Restaurant\, Bar & Café Hong Kong\, Hall 5\, Hong Kong Convention & Exhibition Centre\, Wan Chai\, Hong Kong
CATEGORIES:California Wine,Industry Events,Wine,Workshops
ATTACH;FMTTYPE=image/png:https://mwminternational.com/wp-content/uploads/2025/08/RNB-2.png
ORGANIZER;CN="MWM Wine School":MAILTO:school@mwminternational.com
END:VEVENT
END:VCALENDAR