BEGIN:VCALENDAR
VERSION:2.0
PRODID:-//Meiburg Wine Media - ECPv6.15.14//NONSGML v1.0//EN
CALSCALE:GREGORIAN
METHOD:PUBLISH
X-WR-CALNAME:Meiburg Wine Media
X-ORIGINAL-URL:https://mwminternational.com
X-WR-CALDESC:Events for Meiburg Wine Media
REFRESH-INTERVAL;VALUE=DURATION:PT1H
X-Robots-Tag:noindex
X-PUBLISHED-TTL:PT1H
BEGIN:VTIMEZONE
TZID:Asia/Hong_Kong
BEGIN:STANDARD
TZOFFSETFROM:+0800
TZOFFSETTO:+0800
TZNAME:HKT
DTSTART:20230101T000000
END:STANDARD
END:VTIMEZONE
BEGIN:VEVENT
DTSTART;TZID=Asia/Hong_Kong:20240817T140000
DTEND;TZID=Asia/Hong_Kong:20240817T190000
DTSTAMP:20260421T001428
CREATED:20240705T082736Z
LAST-MODIFIED:20240705T083054Z
UID:10000417-1723903200-1723921200@mwminternational.com
SUMMARY:WSET Level 1 Award in Wine (Intensive)
DESCRIPTION:Join us for a special Meet the Winemaker event featuring Reilly Keenan\, third-generation vintner of Keenan Winery on Napa Valley’s renowned Spring Mountain.\n\nDuring this exclusive visit\, Reilly will share insights into Spring Mountain viticulture and guide us through a selection of Keenan’s acclaimed wines:\n\n 	Robert Keenan Chardonnay\, Napa Valley Spring Mountain 2021\n 	Robert Keenan Cabernet Sauvignon\, Spring Mountain District Reserve 2019\n 	Robert Keenan Merlot\, Napa Valley 2019\n 	Robert Keenan Merlot\, Spring Mountain Proprietary Red 2019\n\nThis is a unique opportunity to hear firsthand about family winemaking\, mountain terroir\, and the craftsmanship behind one of Napa Valley’s enduring estates. We look forward to welcoming Reilly and tasting these exceptional wines together.\n\n \n\nReilly Keenan\n\nWorking alongside his father\, Michael Keenan\, Reilly represents the next generation of this celebrated mountain estate\, bringing both deep-rooted tradition and a fresh perspective to the family legacy.\n\nHaving worked every harvest since the age of sixteen\, Reilly has grown up among the estate vines and remains closely involved in winery operations. Today\, he leads consumer and trade events\, hosts tastings\, and champions Keenan’s commitment to sustainable farming and authentic mountain winemaking. True to the family philosophy\, Keenan wines are crafted without commercial shortcuts—focused instead on structure\, balance\, and the distinctive character of high-elevation vineyards.
URL:https://mwminternational.com/events/wset-level-1-award-in-wine-intensive-12/
LOCATION:MWM Wine School\, 9th Floor\, Aberdeen Industrial Building\, 236 Aberdeen Main Road\, Aberdeen\, Hong Kong
CATEGORIES:Certificate Course,Wine,WSET,WSET L1 Wine
ATTACH;FMTTYPE=image/png:https://mwminternational.com/wp-content/uploads/2024/07/WSET-L1-2024-08-17.png
ORGANIZER;CN="MWM Wine School":MAILTO:school@mwminternational.com
END:VEVENT
END:VCALENDAR