BEGIN:VCALENDAR
VERSION:2.0
PRODID:-//Meiburg Wine Media - ECPv6.15.14//NONSGML v1.0//EN
CALSCALE:GREGORIAN
METHOD:PUBLISH
X-WR-CALNAME:Meiburg Wine Media
X-ORIGINAL-URL:https://mwminternational.com
X-WR-CALDESC:Events for Meiburg Wine Media
REFRESH-INTERVAL;VALUE=DURATION:PT1H
X-Robots-Tag:noindex
X-PUBLISHED-TTL:PT1H
BEGIN:VTIMEZONE
TZID:Asia/Hong_Kong
BEGIN:STANDARD
TZOFFSETFROM:+0800
TZOFFSETTO:+0800
TZNAME:HKT
DTSTART:20240101T000000
END:STANDARD
END:VTIMEZONE
BEGIN:VEVENT
DTSTART;TZID=Asia/Hong_Kong:20250511T123000
DTEND;TZID=Asia/Hong_Kong:20250511T183000
DTSTAMP:20260423T170730
CREATED:20250206T093525Z
LAST-MODIFIED:20250508T024935Z
UID:10000463-1746966600-1746988200@mwminternational.com
SUMMARY:WSET Level 1 Award in Spirits (Intensive)
DESCRIPTION:18\, 25 May 2025 (Sun) | 10am-6pm | Exam: 9 Jun 2025 (Mon) | HK$6\,800\n\n\n\nDive deeper into production methods and the principal raw materials. Learn about the principles of serving spirits\, and how to use them in cocktails. This is a course for the enthusiasts and industry people alike.\n\n 	How production methods affect the characteristics of spirits and liqueurs\n 	The characteristics of the principal international spirits and liqueurs\n 	How to describe spirits using the WSET Level 2 Systematic Approach to Tasting Spirits® (SAT)\n\nIn 15 hours\, you can build a solid foundation on spirits and liqueurs.\nSpeaker\nEddie Nara\n\nEddie is a respected leader in the spirits industry and the lead tutor for Whisky & Gin Ambassador programs in Hong Kong & Macau. As Asia’s first Certified Spirits Educator accredited by the Society of Wine Educators and a WSET Certified Educator\, he has dedicated his career to advancing spirits education. Eddie has served as a judge for prestigious international spirits competitions and is also an esteemed cocktail judge. While his passion extends to all spirits\, his deep expertise in Scotch and world whiskies is widely recognized. Beyond education\, Eddie is deeply passionate about curating cocktails and is often invited as a guest bartender\, bringing his creativity and craftsmanship to bars across the region. His commitment to education has made a lasting impact on the industry\, inspiring and mentoring aspiring bar professionals across Asia.\nPrerequisite\nCompletion of WSET Level 1 Award in Spirits or equivalent recommended\nAll applicants must be over 18+\nCourse Structure\n15 tutoring hours\n\nNot less than 29 spirits for tasting\n\nWSET Level 2 Award in Spirits Specification\nExamination\n\n 	50 multiple-choice questions\n 	Score of 55% is required to get a pass\n\nTo Register: Click “Chat Now” or WhatsApp to +852 9436 8054  (https://wa.me/85294368054  )
URL:https://mwminternational.com/events/wset-level-1-award-in-spirits-intensive-7/
LOCATION:Winebanc\, Shop1&2\, G/F\, Eldex Industrial Building\, 21 Ma Tau Wai Road\, Hung Hom\, Kowloon\, Hong Kong
CATEGORIES:Spirits,WSET,WSET L1 Spirits
ATTACH;FMTTYPE=image/png:https://mwminternational.com/wp-content/uploads/2025/02/L1-Spirits-2024-12-15.png
ORGANIZER;CN="MWM Wine School":MAILTO:school@mwminternational.com
END:VEVENT
BEGIN:VEVENT
DTSTART;TZID=Asia/Hong_Kong:20250515T120000
DTEND;TZID=Asia/Hong_Kong:20250515T130000
DTSTAMP:20260423T170730
CREATED:20250422T103714Z
LAST-MODIFIED:20250515T164616Z
UID:10000484-1747310400-1747314000@mwminternational.com
SUMMARY:Structured Spirits Evaluation - Whisky Tasting
DESCRIPTION:18\, 25 May 2025 (Sun) | 10am-6pm | Exam: 9 Jun 2025 (Mon) | HK$6\,800\n\n\n\nDive deeper into production methods and the principal raw materials. Learn about the principles of serving spirits\, and how to use them in cocktails. This is a course for the enthusiasts and industry people alike.\n\n 	How production methods affect the characteristics of spirits and liqueurs\n 	The characteristics of the principal international spirits and liqueurs\n 	How to describe spirits using the WSET Level 2 Systematic Approach to Tasting Spirits® (SAT)\n\nIn 15 hours\, you can build a solid foundation on spirits and liqueurs.\nSpeaker\nEddie Nara\n\nEddie is a respected leader in the spirits industry and the lead tutor for Whisky & Gin Ambassador programs in Hong Kong & Macau. As Asia’s first Certified Spirits Educator accredited by the Society of Wine Educators and a WSET Certified Educator\, he has dedicated his career to advancing spirits education. Eddie has served as a judge for prestigious international spirits competitions and is also an esteemed cocktail judge. While his passion extends to all spirits\, his deep expertise in Scotch and world whiskies is widely recognized. Beyond education\, Eddie is deeply passionate about curating cocktails and is often invited as a guest bartender\, bringing his creativity and craftsmanship to bars across the region. His commitment to education has made a lasting impact on the industry\, inspiring and mentoring aspiring bar professionals across Asia.\nPrerequisite\nCompletion of WSET Level 1 Award in Spirits or equivalent recommended\nAll applicants must be over 18+\nCourse Structure\n15 tutoring hours\n\nNot less than 29 spirits for tasting\n\nWSET Level 2 Award in Spirits Specification\nExamination\n\n 	50 multiple-choice questions\n 	Score of 55% is required to get a pass\n\nTo Register: Click “Chat Now” or WhatsApp to +852 9436 8054  (https://wa.me/85294368054  )
URL:https://mwminternational.com/events/structured-spirits-evaluation-whisky-tasting/
LOCATION:Hong Kong Convention and Exhibition Centre\, 1 Expo Drive\, Wan Chai\, Hong Kong\, 852
CATEGORIES:Industry Events,Spirits,Workshops
ATTACH;FMTTYPE=image/png:https://mwminternational.com/wp-content/uploads/2025/04/Workshop_20250513_223036_0000.png
ORGANIZER;CN="MWM Wine School":MAILTO:school@mwminternational.com
END:VEVENT
BEGIN:VEVENT
DTSTART;TZID=Asia/Hong_Kong:20250518T100000
DTEND;TZID=Asia/Hong_Kong:20250518T180000
DTSTAMP:20260423T170730
CREATED:20250206T092411Z
LAST-MODIFIED:20250508T025205Z
UID:10000458-1747562400-1747591200@mwminternational.com
SUMMARY:WSET Level 2 Award in Spirits (Intensive)
DESCRIPTION:18\, 25 May 2025 (Sun) | 10am-6pm | Exam: 9 Jun 2025 (Mon) | HK$6\,800\n\n\n\nDive deeper into production methods and the principal raw materials. Learn about the principles of serving spirits\, and how to use them in cocktails. This is a course for the enthusiasts and industry people alike.\n\n 	How production methods affect the characteristics of spirits and liqueurs\n 	The characteristics of the principal international spirits and liqueurs\n 	How to describe spirits using the WSET Level 2 Systematic Approach to Tasting Spirits® (SAT)\n\nIn 15 hours\, you can build a solid foundation on spirits and liqueurs.\nSpeaker\nEddie Nara\n\nEddie is a respected leader in the spirits industry and the lead tutor for Whisky & Gin Ambassador programs in Hong Kong & Macau. As Asia’s first Certified Spirits Educator accredited by the Society of Wine Educators and a WSET Certified Educator\, he has dedicated his career to advancing spirits education. Eddie has served as a judge for prestigious international spirits competitions and is also an esteemed cocktail judge. While his passion extends to all spirits\, his deep expertise in Scotch and world whiskies is widely recognized. Beyond education\, Eddie is deeply passionate about curating cocktails and is often invited as a guest bartender\, bringing his creativity and craftsmanship to bars across the region. His commitment to education has made a lasting impact on the industry\, inspiring and mentoring aspiring bar professionals across Asia.\nPrerequisite\nCompletion of WSET Level 1 Award in Spirits or equivalent recommended\nAll applicants must be over 18+\nCourse Structure\n15 tutoring hours\n\nNot less than 29 spirits for tasting\n\nWSET Level 2 Award in Spirits Specification\nExamination\n\n 	50 multiple-choice questions\n 	Score of 55% is required to get a pass\n\nTo Register: Click “Chat Now” or WhatsApp to +852 9436 8054  (https://wa.me/85294368054  )
URL:https://mwminternational.com/events/wset-level-2-award-in-spirits-intensive-10/
LOCATION:MWM Wine School\, 9th Floor\, Aberdeen Industrial Building\, 236 Aberdeen Main Road\, Aberdeen\, Hong Kong
CATEGORIES:Certificate Course,Spirits,WSET,WSET L2 Spirits
ATTACH;FMTTYPE=image/png:https://mwminternational.com/wp-content/uploads/2025/02/WSET-L2-Spirits-june-2.png
ORGANIZER;CN="MWM Wine School":MAILTO:school@mwminternational.com
END:VEVENT
BEGIN:VEVENT
DTSTART;TZID=Asia/Hong_Kong:20250622T120000
DTEND;TZID=Asia/Hong_Kong:20250622T170000
DTSTAMP:20260423T170730
CREATED:20250602T091037Z
LAST-MODIFIED:20250605T052231Z
UID:10000495-1750593600-1750611600@mwminternational.com
SUMMARY:WSET Level 1 Award in Spirits (Intensive)
DESCRIPTION:18\, 25 May 2025 (Sun) | 10am-6pm | Exam: 9 Jun 2025 (Mon) | HK$6\,800\n\n\n\nDive deeper into production methods and the principal raw materials. Learn about the principles of serving spirits\, and how to use them in cocktails. This is a course for the enthusiasts and industry people alike.\n\n 	How production methods affect the characteristics of spirits and liqueurs\n 	The characteristics of the principal international spirits and liqueurs\n 	How to describe spirits using the WSET Level 2 Systematic Approach to Tasting Spirits® (SAT)\n\nIn 15 hours\, you can build a solid foundation on spirits and liqueurs.\nSpeaker\nEddie Nara\n\nEddie is a respected leader in the spirits industry and the lead tutor for Whisky & Gin Ambassador programs in Hong Kong & Macau. As Asia’s first Certified Spirits Educator accredited by the Society of Wine Educators and a WSET Certified Educator\, he has dedicated his career to advancing spirits education. Eddie has served as a judge for prestigious international spirits competitions and is also an esteemed cocktail judge. While his passion extends to all spirits\, his deep expertise in Scotch and world whiskies is widely recognized. Beyond education\, Eddie is deeply passionate about curating cocktails and is often invited as a guest bartender\, bringing his creativity and craftsmanship to bars across the region. His commitment to education has made a lasting impact on the industry\, inspiring and mentoring aspiring bar professionals across Asia.\nPrerequisite\nCompletion of WSET Level 1 Award in Spirits or equivalent recommended\nAll applicants must be over 18+\nCourse Structure\n15 tutoring hours\n\nNot less than 29 spirits for tasting\n\nWSET Level 2 Award in Spirits Specification\nExamination\n\n 	50 multiple-choice questions\n 	Score of 55% is required to get a pass\n\nTo Register: Click “Chat Now” or WhatsApp to +852 9436 8054  (https://wa.me/85294368054  )
URL:https://mwminternational.com/events/wset-level-1-award-in-spirits-intensive-9/
LOCATION:theDesk Strand50\, 50 Bonham Strand\, Sheung Wan\, Hong Kong
CATEGORIES:Spirits,WSET,WSET L1 Spirits
ATTACH;FMTTYPE=image/png:https://mwminternational.com/wp-content/uploads/2025/06/L1-Spirits-2025-06-22.png
ORGANIZER;CN="MWM Wine School":MAILTO:school@mwminternational.com
END:VEVENT
BEGIN:VEVENT
DTSTART;TZID=Asia/Hong_Kong:20250629T100000
DTEND;TZID=Asia/Hong_Kong:20250629T180000
DTSTAMP:20260423T170730
CREATED:20250217T022933Z
LAST-MODIFIED:20250602T094205Z
UID:10000470-1751191200-1751220000@mwminternational.com
SUMMARY:WSET Level 2 Award in Spirits
DESCRIPTION:18\, 25 May 2025 (Sun) | 10am-6pm | Exam: 9 Jun 2025 (Mon) | HK$6\,800\n\n\n\nDive deeper into production methods and the principal raw materials. Learn about the principles of serving spirits\, and how to use them in cocktails. This is a course for the enthusiasts and industry people alike.\n\n 	How production methods affect the characteristics of spirits and liqueurs\n 	The characteristics of the principal international spirits and liqueurs\n 	How to describe spirits using the WSET Level 2 Systematic Approach to Tasting Spirits® (SAT)\n\nIn 15 hours\, you can build a solid foundation on spirits and liqueurs.\nSpeaker\nEddie Nara\n\nEddie is a respected leader in the spirits industry and the lead tutor for Whisky & Gin Ambassador programs in Hong Kong & Macau. As Asia’s first Certified Spirits Educator accredited by the Society of Wine Educators and a WSET Certified Educator\, he has dedicated his career to advancing spirits education. Eddie has served as a judge for prestigious international spirits competitions and is also an esteemed cocktail judge. While his passion extends to all spirits\, his deep expertise in Scotch and world whiskies is widely recognized. Beyond education\, Eddie is deeply passionate about curating cocktails and is often invited as a guest bartender\, bringing his creativity and craftsmanship to bars across the region. His commitment to education has made a lasting impact on the industry\, inspiring and mentoring aspiring bar professionals across Asia.\nPrerequisite\nCompletion of WSET Level 1 Award in Spirits or equivalent recommended\nAll applicants must be over 18+\nCourse Structure\n15 tutoring hours\n\nNot less than 29 spirits for tasting\n\nWSET Level 2 Award in Spirits Specification\nExamination\n\n 	50 multiple-choice questions\n 	Score of 55% is required to get a pass\n\nTo Register: Click “Chat Now” or WhatsApp to +852 9436 8054  (https://wa.me/85294368054  )
URL:https://mwminternational.com/events/wset-level-2-award-in-spirits/
LOCATION:theDesk Strand50\, 50 Bonham Strand\, Sheung Wan\, Hong Kong
CATEGORIES:Certificate Course,Spirits,WSET,WSET L2 Spirits
ATTACH;FMTTYPE=image/png:https://mwminternational.com/wp-content/uploads/2025/02/WSET-2024-Facebook-1.png
ORGANIZER;CN="MWM Wine School":MAILTO:school@mwminternational.com
END:VEVENT
BEGIN:VEVENT
DTSTART;TZID=Asia/Hong_Kong:20250727T120000
DTEND;TZID=Asia/Hong_Kong:20250727T170000
DTSTAMP:20260423T170730
CREATED:20250602T090810Z
LAST-MODIFIED:20250717T050401Z
UID:10000494-1753617600-1753635600@mwminternational.com
SUMMARY:WSET Level 1 Award in Spirits (Intensive)
DESCRIPTION:18\, 25 May 2025 (Sun) | 10am-6pm | Exam: 9 Jun 2025 (Mon) | HK$6\,800\n\n\n\nDive deeper into production methods and the principal raw materials. Learn about the principles of serving spirits\, and how to use them in cocktails. This is a course for the enthusiasts and industry people alike.\n\n 	How production methods affect the characteristics of spirits and liqueurs\n 	The characteristics of the principal international spirits and liqueurs\n 	How to describe spirits using the WSET Level 2 Systematic Approach to Tasting Spirits® (SAT)\n\nIn 15 hours\, you can build a solid foundation on spirits and liqueurs.\nSpeaker\nEddie Nara\n\nEddie is a respected leader in the spirits industry and the lead tutor for Whisky & Gin Ambassador programs in Hong Kong & Macau. As Asia’s first Certified Spirits Educator accredited by the Society of Wine Educators and a WSET Certified Educator\, he has dedicated his career to advancing spirits education. Eddie has served as a judge for prestigious international spirits competitions and is also an esteemed cocktail judge. While his passion extends to all spirits\, his deep expertise in Scotch and world whiskies is widely recognized. Beyond education\, Eddie is deeply passionate about curating cocktails and is often invited as a guest bartender\, bringing his creativity and craftsmanship to bars across the region. His commitment to education has made a lasting impact on the industry\, inspiring and mentoring aspiring bar professionals across Asia.\nPrerequisite\nCompletion of WSET Level 1 Award in Spirits or equivalent recommended\nAll applicants must be over 18+\nCourse Structure\n15 tutoring hours\n\nNot less than 29 spirits for tasting\n\nWSET Level 2 Award in Spirits Specification\nExamination\n\n 	50 multiple-choice questions\n 	Score of 55% is required to get a pass\n\nTo Register: Click “Chat Now” or WhatsApp to +852 9436 8054  (https://wa.me/85294368054  )
URL:https://mwminternational.com/events/wset-level-1-award-in-spirits-intensive-8/
LOCATION:MWM Wine School\, 9th Floor\, Aberdeen Industrial Building\, 236 Aberdeen Main Road\, Aberdeen\, Hong Kong
CATEGORIES:Spirits,WSET,WSET L1 Spirits
ATTACH;FMTTYPE=image/png:https://mwminternational.com/wp-content/uploads/2025/06/L1-Spirits-2025-07-27-1.png
ORGANIZER;CN="MWM Wine School":MAILTO:school@mwminternational.com
END:VEVENT
BEGIN:VEVENT
DTSTART;TZID=Asia/Hong_Kong:20250810T100000
DTEND;TZID=Asia/Hong_Kong:20250810T180000
DTSTAMP:20260423T170730
CREATED:20250206T094149Z
LAST-MODIFIED:20250603T004815Z
UID:10000464-1754820000-1754848800@mwminternational.com
SUMMARY:The Advanced Whisky Ambassador
DESCRIPTION:18\, 25 May 2025 (Sun) | 10am-6pm | Exam: 9 Jun 2025 (Mon) | HK$6\,800\n\n\n\nDive deeper into production methods and the principal raw materials. Learn about the principles of serving spirits\, and how to use them in cocktails. This is a course for the enthusiasts and industry people alike.\n\n 	How production methods affect the characteristics of spirits and liqueurs\n 	The characteristics of the principal international spirits and liqueurs\n 	How to describe spirits using the WSET Level 2 Systematic Approach to Tasting Spirits® (SAT)\n\nIn 15 hours\, you can build a solid foundation on spirits and liqueurs.\nSpeaker\nEddie Nara\n\nEddie is a respected leader in the spirits industry and the lead tutor for Whisky & Gin Ambassador programs in Hong Kong & Macau. As Asia’s first Certified Spirits Educator accredited by the Society of Wine Educators and a WSET Certified Educator\, he has dedicated his career to advancing spirits education. Eddie has served as a judge for prestigious international spirits competitions and is also an esteemed cocktail judge. While his passion extends to all spirits\, his deep expertise in Scotch and world whiskies is widely recognized. Beyond education\, Eddie is deeply passionate about curating cocktails and is often invited as a guest bartender\, bringing his creativity and craftsmanship to bars across the region. His commitment to education has made a lasting impact on the industry\, inspiring and mentoring aspiring bar professionals across Asia.\nPrerequisite\nCompletion of WSET Level 1 Award in Spirits or equivalent recommended\nAll applicants must be over 18+\nCourse Structure\n15 tutoring hours\n\nNot less than 29 spirits for tasting\n\nWSET Level 2 Award in Spirits Specification\nExamination\n\n 	50 multiple-choice questions\n 	Score of 55% is required to get a pass\n\nTo Register: Click “Chat Now” or WhatsApp to +852 9436 8054  (https://wa.me/85294368054  )
URL:https://mwminternational.com/events/the-advanced-whisky-ambassador-5/
LOCATION:MWM Wine School\, 9th Floor\, Aberdeen Industrial Building\, 236 Aberdeen Main Road\, Aberdeen\, Hong Kong
CATEGORIES:Certificate Course,Spirits,Whisky Ambassador
ATTACH;FMTTYPE=image/png:https://mwminternational.com/wp-content/uploads/2025/02/Certificate-Course-Facebook_20250603_005920_0000.png
ORGANIZER;CN="MWM Wine School":MAILTO:school@mwminternational.com
END:VEVENT
BEGIN:VEVENT
DTSTART;TZID=Asia/Hong_Kong:20250926T183000
DTEND;TZID=Asia/Hong_Kong:20250926T210000
DTSTAMP:20260423T170730
CREATED:20250902T060441Z
LAST-MODIFIED:20250902T060441Z
UID:10000515-1758911400-1758920400@mwminternational.com
SUMMARY:TYP 2025 - Test Your Palate
DESCRIPTION:18\, 25 May 2025 (Sun) | 10am-6pm | Exam: 9 Jun 2025 (Mon) | HK$6\,800\n\n\n\nDive deeper into production methods and the principal raw materials. Learn about the principles of serving spirits\, and how to use them in cocktails. This is a course for the enthusiasts and industry people alike.\n\n 	How production methods affect the characteristics of spirits and liqueurs\n 	The characteristics of the principal international spirits and liqueurs\n 	How to describe spirits using the WSET Level 2 Systematic Approach to Tasting Spirits® (SAT)\n\nIn 15 hours\, you can build a solid foundation on spirits and liqueurs.\nSpeaker\nEddie Nara\n\nEddie is a respected leader in the spirits industry and the lead tutor for Whisky & Gin Ambassador programs in Hong Kong & Macau. As Asia’s first Certified Spirits Educator accredited by the Society of Wine Educators and a WSET Certified Educator\, he has dedicated his career to advancing spirits education. Eddie has served as a judge for prestigious international spirits competitions and is also an esteemed cocktail judge. While his passion extends to all spirits\, his deep expertise in Scotch and world whiskies is widely recognized. Beyond education\, Eddie is deeply passionate about curating cocktails and is often invited as a guest bartender\, bringing his creativity and craftsmanship to bars across the region. His commitment to education has made a lasting impact on the industry\, inspiring and mentoring aspiring bar professionals across Asia.\nPrerequisite\nCompletion of WSET Level 1 Award in Spirits or equivalent recommended\nAll applicants must be over 18+\nCourse Structure\n15 tutoring hours\n\nNot less than 29 spirits for tasting\n\nWSET Level 2 Award in Spirits Specification\nExamination\n\n 	50 multiple-choice questions\n 	Score of 55% is required to get a pass\n\nTo Register: Click “Chat Now” or WhatsApp to +852 9436 8054  (https://wa.me/85294368054  )
URL:https://mwminternational.com/events/typ-2025-test-your-palate/
LOCATION:the Arca\, 43 Heung Yip Road\, Wong Chuk Hang\, Hong Kong
CATEGORIES:Festival,Spirits,Wine
ATTACH;FMTTYPE=image/png:https://mwminternational.com/wp-content/uploads/2025/09/900x600.png
ORGANIZER;CN="MWM Wine School":MAILTO:school@mwminternational.com
END:VEVENT
BEGIN:VEVENT
DTSTART;TZID=Asia/Hong_Kong:20260315T100000
DTEND;TZID=Asia/Hong_Kong:20260315T180000
DTSTAMP:20260423T170730
CREATED:20251218T031510Z
LAST-MODIFIED:20251218T031510Z
UID:10000530-1773568800-1773597600@mwminternational.com
SUMMARY:Advanced Whisky Ambassador
DESCRIPTION:18\, 25 May 2025 (Sun) | 10am-6pm | Exam: 9 Jun 2025 (Mon) | HK$6\,800\n\n\n\nDive deeper into production methods and the principal raw materials. Learn about the principles of serving spirits\, and how to use them in cocktails. This is a course for the enthusiasts and industry people alike.\n\n 	How production methods affect the characteristics of spirits and liqueurs\n 	The characteristics of the principal international spirits and liqueurs\n 	How to describe spirits using the WSET Level 2 Systematic Approach to Tasting Spirits® (SAT)\n\nIn 15 hours\, you can build a solid foundation on spirits and liqueurs.\nSpeaker\nEddie Nara\n\nEddie is a respected leader in the spirits industry and the lead tutor for Whisky & Gin Ambassador programs in Hong Kong & Macau. As Asia’s first Certified Spirits Educator accredited by the Society of Wine Educators and a WSET Certified Educator\, he has dedicated his career to advancing spirits education. Eddie has served as a judge for prestigious international spirits competitions and is also an esteemed cocktail judge. While his passion extends to all spirits\, his deep expertise in Scotch and world whiskies is widely recognized. Beyond education\, Eddie is deeply passionate about curating cocktails and is often invited as a guest bartender\, bringing his creativity and craftsmanship to bars across the region. His commitment to education has made a lasting impact on the industry\, inspiring and mentoring aspiring bar professionals across Asia.\nPrerequisite\nCompletion of WSET Level 1 Award in Spirits or equivalent recommended\nAll applicants must be over 18+\nCourse Structure\n15 tutoring hours\n\nNot less than 29 spirits for tasting\n\nWSET Level 2 Award in Spirits Specification\nExamination\n\n 	50 multiple-choice questions\n 	Score of 55% is required to get a pass\n\nTo Register: Click “Chat Now” or WhatsApp to +852 9436 8054  (https://wa.me/85294368054  )
URL:https://mwminternational.com/events/advanced-whisky-ambassador/
LOCATION:MWM Wine School\, 9th Floor\, Aberdeen Industrial Building\, 236 Aberdeen Main Road\, Aberdeen\, Hong Kong
CATEGORIES:Spirits,Whisky Ambassador
ATTACH;FMTTYPE=image/png:https://mwminternational.com/wp-content/uploads/2025/12/WA-2026.png
ORGANIZER;CN="MWM Wine School":MAILTO:school@mwminternational.com
END:VEVENT
BEGIN:VEVENT
DTSTART;VALUE=DATE:20260614
DTEND;VALUE=DATE:20260618
DTSTAMP:20260423T170730
CREATED:20260422T043901Z
LAST-MODIFIED:20260423T040134Z
UID:10000560-1781395200-1781740799@mwminternational.com
SUMMARY:Fukuoka Brews: 4-day Distillery Tour
DESCRIPTION:18\, 25 May 2025 (Sun) | 10am-6pm | Exam: 9 Jun 2025 (Mon) | HK$6\,800\n\n\n\nDive deeper into production methods and the principal raw materials. Learn about the principles of serving spirits\, and how to use them in cocktails. This is a course for the enthusiasts and industry people alike.\n\n 	How production methods affect the characteristics of spirits and liqueurs\n 	The characteristics of the principal international spirits and liqueurs\n 	How to describe spirits using the WSET Level 2 Systematic Approach to Tasting Spirits® (SAT)\n\nIn 15 hours\, you can build a solid foundation on spirits and liqueurs.\nSpeaker\nEddie Nara\n\nEddie is a respected leader in the spirits industry and the lead tutor for Whisky & Gin Ambassador programs in Hong Kong & Macau. As Asia’s first Certified Spirits Educator accredited by the Society of Wine Educators and a WSET Certified Educator\, he has dedicated his career to advancing spirits education. Eddie has served as a judge for prestigious international spirits competitions and is also an esteemed cocktail judge. While his passion extends to all spirits\, his deep expertise in Scotch and world whiskies is widely recognized. Beyond education\, Eddie is deeply passionate about curating cocktails and is often invited as a guest bartender\, bringing his creativity and craftsmanship to bars across the region. His commitment to education has made a lasting impact on the industry\, inspiring and mentoring aspiring bar professionals across Asia.\nPrerequisite\nCompletion of WSET Level 1 Award in Spirits or equivalent recommended\nAll applicants must be over 18+\nCourse Structure\n15 tutoring hours\n\nNot less than 29 spirits for tasting\n\nWSET Level 2 Award in Spirits Specification\nExamination\n\n 	50 multiple-choice questions\n 	Score of 55% is required to get a pass\n\nTo Register: Click “Chat Now” or WhatsApp to +852 9436 8054  (https://wa.me/85294368054  )
URL:https://mwminternational.com/events/fukuoka-brews-4-day-distillery-tour/
CATEGORIES:Spirits,Tour
ATTACH;FMTTYPE=image/png:https://mwminternational.com/wp-content/uploads/2026/04/Fukuoka-2026-IG-1920-x-1080-px.png
ORGANIZER;CN="MWM Wine School":MAILTO:school@mwminternational.com
END:VEVENT
END:VCALENDAR