BEGIN:VCALENDAR
VERSION:2.0
PRODID:-//Meiburg Wine Media - ECPv6.15.14//NONSGML v1.0//EN
CALSCALE:GREGORIAN
METHOD:PUBLISH
X-WR-CALNAME:Meiburg Wine Media
X-ORIGINAL-URL:https://mwminternational.com
X-WR-CALDESC:Events for Meiburg Wine Media
REFRESH-INTERVAL;VALUE=DURATION:PT1H
X-Robots-Tag:noindex
X-PUBLISHED-TTL:PT1H
BEGIN:VTIMEZONE
TZID:Asia/Hong_Kong
BEGIN:STANDARD
TZOFFSETFROM:+0800
TZOFFSETTO:+0800
TZNAME:HKT
DTSTART:20230101T000000
END:STANDARD
END:VTIMEZONE
BEGIN:VEVENT
DTSTART;TZID=Asia/Hong_Kong:20240407T120000
DTEND;TZID=Asia/Hong_Kong:20240407T170000
DTSTAMP:20260421T161910
CREATED:20240122T082331Z
LAST-MODIFIED:20240328T113222Z
UID:10000393-1712491200-1712509200@mwminternational.com
SUMMARY:WSET Level 1 Award in Spirits (Intensive)
DESCRIPTION:Developed by The Whisky Ambassador Ltd.\, it is UK’s only accredited training scheme for the selling of Whisky\, particularly Scotch Malt Whisky. Upon completion\, participants will get the The Whisky Ambassador certificate accredited by BIIAB\, UK’s leading provider of qualifications for the licensed trade.\n\nCourse Details: https://mwminternational.com/the-whisky-ambassador/\n\nHost: Eddie Nara – bios: https://mwmwineschool.com/eddie-nara/
URL:https://mwminternational.com/events/wset-level-1-award-in-spirits-intensive-5-5/
LOCATION:MWM Wine School\, 9th Floor\, Aberdeen Industrial Building\, 236 Aberdeen Main Road\, Aberdeen\, Hong Kong
CATEGORIES:Spirits,WSET,WSET L1 Spirits
ATTACH;FMTTYPE=image/png:https://mwminternational.com/wp-content/uploads/2024/01/WSET-L1-Spirits-2024-Facebook.png
ORGANIZER;CN="MWM Wine School":MAILTO:school@mwminternational.com
END:VEVENT
BEGIN:VEVENT
DTSTART;TZID=Asia/Hong_Kong:20240414T120000
DTEND;TZID=Asia/Hong_Kong:20240414T170000
DTSTAMP:20260421T161910
CREATED:20240102T085919Z
LAST-MODIFIED:20240312T054238Z
UID:10000389-1713096000-1713114000@mwminternational.com
SUMMARY:The Advanced Whisky Ambassador (Weekend)
DESCRIPTION:Developed by The Whisky Ambassador Ltd.\, it is UK’s only accredited training scheme for the selling of Whisky\, particularly Scotch Malt Whisky. Upon completion\, participants will get the The Whisky Ambassador certificate accredited by BIIAB\, UK’s leading provider of qualifications for the licensed trade.\n\nCourse Details: https://mwminternational.com/the-whisky-ambassador/\n\nHost: Eddie Nara – bios: https://mwmwineschool.com/eddie-nara/
URL:https://mwminternational.com/events/the-advanced-whisky-ambassador-weekend-1/
LOCATION:MWM Wine School\, 9th Floor\, Aberdeen Industrial Building\, 236 Aberdeen Main Road\, Aberdeen\, Hong Kong
CATEGORIES:Certificate Course,Spirits,Whisky Ambassador
ATTACH;FMTTYPE=image/png:https://mwminternational.com/wp-content/uploads/2024/01/ADVANCE-WHISKY-AMBASSADOR-CERTIFICATE-TRAINING-BEYOND-BY-EDDIE-NARA-CSE-26-Mar-SUN1000-1700-6200-1200-×-630-px4.png
ORGANIZER;CN="MWM Wine School":MAILTO:school@mwminternational.com
END:VEVENT
END:VCALENDAR