BEGIN:VCALENDAR
VERSION:2.0
PRODID:-//Meiburg Wine Media - ECPv6.15.14//NONSGML v1.0//EN
CALSCALE:GREGORIAN
METHOD:PUBLISH
X-WR-CALNAME:Meiburg Wine Media
X-ORIGINAL-URL:https://mwminternational.com
X-WR-CALDESC:Events for Meiburg Wine Media
REFRESH-INTERVAL;VALUE=DURATION:PT1H
X-Robots-Tag:noindex
X-PUBLISHED-TTL:PT1H
BEGIN:VTIMEZONE
TZID:Asia/Hong_Kong
BEGIN:STANDARD
TZOFFSETFROM:+0800
TZOFFSETTO:+0800
TZNAME:HKT
DTSTART:20220101T000000
END:STANDARD
END:VTIMEZONE
BEGIN:VEVENT
DTSTART;TZID=Asia/Hong_Kong:20230815T030000
DTEND;TZID=Asia/Hong_Kong:20230815T180000
DTSTAMP:20260425T185507
CREATED:20230804T090113Z
LAST-MODIFIED:20230806T054103Z
UID:10000355-1692068400-1692122400@mwminternational.com
SUMMARY:Nagano Sake Trade Tasting 長野縣清酒品試
DESCRIPTION:7 Nov | 12-1pm | The Gallery\, Hall 3D\, HKCEC\, Wanchai\nHong Kong International Wine & Spirits Fair \nDiscover the highlights of 2025 Cathay Global Wine & Spirits Awards Asia!\n\nJoin Debra Meiburg MW for a tasting of the award-winning selections from some of the world’s most exciting regions.\n\nThis year’s spotlight will feature celebrated wines from #Austria\, along with wines from exciting regions from the East to the West\, as well as #ChineseSpirits and Mead.\n\nCathay Global Wine & Spirits Awards Asia is Asia’s leading benchmark for excellence in wines and spirits. Results shall be released on 6 November during the Hong Kong International Wine & Spirits Fair.\n\nDon’t miss your chance to explore the trends shaping Asia’s dynamic beverage scene!\n\n#CathayGlobalAwards #Wine #Spirits
URL:https://mwminternational.com/events/nagano-sake-trade-tasting-%e9%95%b7%e9%87%8e%e7%b8%a3%e6%b8%85%e9%85%92%e5%93%81%e8%a9%a6/
LOCATION:MWM Wine School\, 9th Floor\, Aberdeen Industrial Building\, 236 Aberdeen Main Road\, Aberdeen\, Hong Kong
CATEGORIES:Industry Events,Sake
ATTACH;FMTTYPE=image/png:https://mwminternational.com/wp-content/uploads/2023/08/20230806_133403_0000.png
ORGANIZER;CN="MWM Wine School":MAILTO:school@mwminternational.com
END:VEVENT
END:VCALENDAR