BEGIN:VCALENDAR
VERSION:2.0
PRODID:-//Meiburg Wine Media - ECPv6.15.14//NONSGML v1.0//EN
CALSCALE:GREGORIAN
METHOD:PUBLISH
X-WR-CALNAME:Meiburg Wine Media
X-ORIGINAL-URL:https://mwminternational.com
X-WR-CALDESC:Events for Meiburg Wine Media
REFRESH-INTERVAL;VALUE=DURATION:PT1H
X-Robots-Tag:noindex
X-PUBLISHED-TTL:PT1H
BEGIN:VTIMEZONE
TZID:Asia/Hong_Kong
BEGIN:STANDARD
TZOFFSETFROM:+0800
TZOFFSETTO:+0800
TZNAME:HKT
DTSTART:20240101T000000
END:STANDARD
END:VTIMEZONE
BEGIN:VEVENT
DTSTART;TZID=Asia/Hong_Kong:20250926T183000
DTEND;TZID=Asia/Hong_Kong:20250926T210000
DTSTAMP:20260426T080531
CREATED:20250902T060441Z
LAST-MODIFIED:20250902T060441Z
UID:10000515-1758911400-1758920400@mwminternational.com
SUMMARY:TYP 2025 - Test Your Palate
DESCRIPTION:Sip\, swirl\, and savor over 150 exceptional wines from around the world at this exclusive tasting experience. Meet the renowned judges of the Cathay Global Wine & Spirits Awards Asia\, sharpen your tasting skills like a pro\, and compare notes as you explore standout bottles from both Old and New World wineries—including rare selections not yet available in Hong Kong and contenders for Gold and Trophy awards!Flash Offer! The first 50 paid ticket buyers will receive a Spiegelau Superiore Bordeaux wine glass (HK$220 value) free! One glass per ticket—don’t miss out!Save the Date: The official competition results drop in November. Check out gwsaa.com to see which wines take home top honors!Tickets are selling fast—grab yours now and uncork the adventure!\n\n\nPurchase or redeem with Asia Miles from Cathay Shop 
URL:https://mwminternational.com/events/typ-2025-test-your-palate/
LOCATION:the Arca\, 43 Heung Yip Road\, Wong Chuk Hang\, Hong Kong
CATEGORIES:Festival,Spirits,Wine
ATTACH;FMTTYPE=image/png:https://mwminternational.com/wp-content/uploads/2025/09/900x600.png
ORGANIZER;CN="MWM Wine School":MAILTO:school@mwminternational.com
END:VEVENT
BEGIN:VEVENT
DTSTART;TZID=Asia/Hong_Kong:20251218T183000
DTEND;TZID=Asia/Hong_Kong:20251218T210000
DTSTAMP:20260426T080531
CREATED:20251128T174312Z
LAST-MODIFIED:20251204T081711Z
UID:10000525-1766082600-1766091600@mwminternational.com
SUMMARY:Donate & Taste - December Get Together Wine Tasting
DESCRIPTION:Sip\, swirl\, and savor over 150 exceptional wines from around the world at this exclusive tasting experience. Meet the renowned judges of the Cathay Global Wine & Spirits Awards Asia\, sharpen your tasting skills like a pro\, and compare notes as you explore standout bottles from both Old and New World wineries—including rare selections not yet available in Hong Kong and contenders for Gold and Trophy awards!Flash Offer! The first 50 paid ticket buyers will receive a Spiegelau Superiore Bordeaux wine glass (HK$220 value) free! One glass per ticket—don’t miss out!Save the Date: The official competition results drop in November. Check out gwsaa.com to see which wines take home top honors!Tickets are selling fast—grab yours now and uncork the adventure!\n\n\nPurchase or redeem with Asia Miles from Cathay Shop 
URL:https://mwminternational.com/events/donate-taste-december-get-together-wine-tasting/
LOCATION:MWM Wine School\, 9th Floor\, Aberdeen Industrial Building\, 236 Aberdeen Main Road\, Aberdeen\, Hong Kong
CATEGORIES:Festival,Wine
ATTACH;FMTTYPE=image/png:https://mwminternational.com/wp-content/uploads/2025/11/Thanks_20251129_190036_0000.png
ORGANIZER;CN="MWM Wine School":MAILTO:school@mwminternational.com
END:VEVENT
BEGIN:VEVENT
DTSTART;TZID=Asia/Hong_Kong:20260121T180000
DTEND;TZID=Asia/Hong_Kong:20260121T203000
DTSTAMP:20260426T080531
CREATED:20260106T034633Z
LAST-MODIFIED:20260117T165829Z
UID:10000532-1769018400-1769027400@mwminternational.com
SUMMARY:TYP Aberdeen Pop-Up Tasting
DESCRIPTION:Sip\, swirl\, and savor over 150 exceptional wines from around the world at this exclusive tasting experience. Meet the renowned judges of the Cathay Global Wine & Spirits Awards Asia\, sharpen your tasting skills like a pro\, and compare notes as you explore standout bottles from both Old and New World wineries—including rare selections not yet available in Hong Kong and contenders for Gold and Trophy awards!Flash Offer! The first 50 paid ticket buyers will receive a Spiegelau Superiore Bordeaux wine glass (HK$220 value) free! One glass per ticket—don’t miss out!Save the Date: The official competition results drop in November. Check out gwsaa.com to see which wines take home top honors!Tickets are selling fast—grab yours now and uncork the adventure!\n\n\nPurchase or redeem with Asia Miles from Cathay Shop 
URL:https://mwminternational.com/events/typ-new-year-edition-test-your-palate-tasting/
LOCATION:MWM Wine School\, 9th Floor\, Aberdeen Industrial Building\, 236 Aberdeen Main Road\, Aberdeen\, Hong Kong
CATEGORIES:Festival,Wine
ATTACH;FMTTYPE=image/jpeg:https://mwminternational.com/wp-content/uploads/2026/01/TYP2026-1.jpg
ORGANIZER;CN="MWM Wine School":MAILTO:school@mwminternational.com
END:VEVENT
BEGIN:VEVENT
DTSTART;TZID=Asia/Hong_Kong:20260311T180000
DTEND;TZID=Asia/Hong_Kong:20260311T203000
DTSTAMP:20260426T080531
CREATED:20260225T165711Z
LAST-MODIFIED:20260225T171847Z
UID:10000536-1773252000-1773261000@mwminternational.com
SUMMARY:International Women’s Day Tasting – Raising a Glass to Women in Wine
DESCRIPTION:Sip\, swirl\, and savor over 150 exceptional wines from around the world at this exclusive tasting experience. Meet the renowned judges of the Cathay Global Wine & Spirits Awards Asia\, sharpen your tasting skills like a pro\, and compare notes as you explore standout bottles from both Old and New World wineries—including rare selections not yet available in Hong Kong and contenders for Gold and Trophy awards!Flash Offer! The first 50 paid ticket buyers will receive a Spiegelau Superiore Bordeaux wine glass (HK$220 value) free! One glass per ticket—don’t miss out!Save the Date: The official competition results drop in November. Check out gwsaa.com to see which wines take home top honors!Tickets are selling fast—grab yours now and uncork the adventure!\n\n\nPurchase or redeem with Asia Miles from Cathay Shop 
URL:https://mwminternational.com/events/international-womens-day-tasting-raising-a-glass-to-women-in-wine/
LOCATION:MWM Wine School\, 9th Floor\, Aberdeen Industrial Building\, 236 Aberdeen Main Road\, Aberdeen\, Hong Kong
CATEGORIES:Festival,Wine
ATTACH;FMTTYPE=image/png:https://mwminternational.com/wp-content/uploads/2026/02/Wine-School-IG-1920-x-1080-px_20260226_004446_0000.png
ORGANIZER;CN="MWM Wine School":MAILTO:school@mwminternational.com
END:VEVENT
BEGIN:VEVENT
DTSTART;TZID=Asia/Hong_Kong:20260423T180000
DTEND;TZID=Asia/Hong_Kong:20260423T203000
DTSTAMP:20260426T080531
CREATED:20260409T060055Z
LAST-MODIFIED:20260409T094428Z
UID:10000551-1776967200-1776976200@mwminternational.com
SUMMARY:TYP 50+
DESCRIPTION:Sip\, swirl\, and savor over 150 exceptional wines from around the world at this exclusive tasting experience. Meet the renowned judges of the Cathay Global Wine & Spirits Awards Asia\, sharpen your tasting skills like a pro\, and compare notes as you explore standout bottles from both Old and New World wineries—including rare selections not yet available in Hong Kong and contenders for Gold and Trophy awards!Flash Offer! The first 50 paid ticket buyers will receive a Spiegelau Superiore Bordeaux wine glass (HK$220 value) free! One glass per ticket—don’t miss out!Save the Date: The official competition results drop in November. Check out gwsaa.com to see which wines take home top honors!Tickets are selling fast—grab yours now and uncork the adventure!\n\n\nPurchase or redeem with Asia Miles from Cathay Shop 
URL:https://mwminternational.com/events/typ-50/
LOCATION:MWM Wine School\, 9th Floor\, Aberdeen Industrial Building\, 236 Aberdeen Main Road\, Aberdeen\, Hong Kong
CATEGORIES:Festival,TYP50,Wine
ATTACH;FMTTYPE=image/png:https://mwminternational.com/wp-content/uploads/2026/04/TYP50.png
ORGANIZER;CN="MWM Wine School":MAILTO:school@mwminternational.com
END:VEVENT
BEGIN:VEVENT
DTSTART;TZID=Asia/Hong_Kong:20260625T180000
DTEND;TZID=Asia/Hong_Kong:20260625T203000
DTSTAMP:20260426T080531
CREATED:20260409T085734Z
LAST-MODIFIED:20260409T094434Z
UID:10000553-1782410400-1782419400@mwminternational.com
SUMMARY:TYP 50+
DESCRIPTION:Sip\, swirl\, and savor over 150 exceptional wines from around the world at this exclusive tasting experience. Meet the renowned judges of the Cathay Global Wine & Spirits Awards Asia\, sharpen your tasting skills like a pro\, and compare notes as you explore standout bottles from both Old and New World wineries—including rare selections not yet available in Hong Kong and contenders for Gold and Trophy awards!Flash Offer! The first 50 paid ticket buyers will receive a Spiegelau Superiore Bordeaux wine glass (HK$220 value) free! One glass per ticket—don’t miss out!Save the Date: The official competition results drop in November. Check out gwsaa.com to see which wines take home top honors!Tickets are selling fast—grab yours now and uncork the adventure!\n\n\nPurchase or redeem with Asia Miles from Cathay Shop 
URL:https://mwminternational.com/events/typ-50-2/
LOCATION:MWM Wine School\, 9th Floor\, Aberdeen Industrial Building\, 236 Aberdeen Main Road\, Aberdeen\, Hong Kong
CATEGORIES:Festival,TYP50,Wine
ATTACH;FMTTYPE=image/png:https://mwminternational.com/wp-content/uploads/2026/04/TYP50.png
ORGANIZER;CN="MWM Wine School":MAILTO:school@mwminternational.com
END:VEVENT
BEGIN:VEVENT
DTSTART;TZID=Asia/Hong_Kong:20260723T180000
DTEND;TZID=Asia/Hong_Kong:20260723T203000
DTSTAMP:20260426T080531
CREATED:20260409T085923Z
LAST-MODIFIED:20260409T094439Z
UID:10000552-1784829600-1784838600@mwminternational.com
SUMMARY:TYP 50+
DESCRIPTION:Sip\, swirl\, and savor over 150 exceptional wines from around the world at this exclusive tasting experience. Meet the renowned judges of the Cathay Global Wine & Spirits Awards Asia\, sharpen your tasting skills like a pro\, and compare notes as you explore standout bottles from both Old and New World wineries—including rare selections not yet available in Hong Kong and contenders for Gold and Trophy awards!Flash Offer! The first 50 paid ticket buyers will receive a Spiegelau Superiore Bordeaux wine glass (HK$220 value) free! One glass per ticket—don’t miss out!Save the Date: The official competition results drop in November. Check out gwsaa.com to see which wines take home top honors!Tickets are selling fast—grab yours now and uncork the adventure!\n\n\nPurchase or redeem with Asia Miles from Cathay Shop 
URL:https://mwminternational.com/events/typ-50-3/
LOCATION:MWM Wine School\, 9th Floor\, Aberdeen Industrial Building\, 236 Aberdeen Main Road\, Aberdeen\, Hong Kong
CATEGORIES:Festival,TYP50,Wine
ATTACH;FMTTYPE=image/png:https://mwminternational.com/wp-content/uploads/2026/04/TYP50.png
ORGANIZER;CN="MWM Wine School":MAILTO:school@mwminternational.com
END:VEVENT
BEGIN:VEVENT
DTSTART;TZID=Asia/Hong_Kong:20260827T180000
DTEND;TZID=Asia/Hong_Kong:20260827T203000
DTSTAMP:20260426T080531
CREATED:20260409T091908Z
LAST-MODIFIED:20260409T094444Z
UID:10000554-1787853600-1787862600@mwminternational.com
SUMMARY:TYP 50+
DESCRIPTION:Sip\, swirl\, and savor over 150 exceptional wines from around the world at this exclusive tasting experience. Meet the renowned judges of the Cathay Global Wine & Spirits Awards Asia\, sharpen your tasting skills like a pro\, and compare notes as you explore standout bottles from both Old and New World wineries—including rare selections not yet available in Hong Kong and contenders for Gold and Trophy awards!Flash Offer! The first 50 paid ticket buyers will receive a Spiegelau Superiore Bordeaux wine glass (HK$220 value) free! One glass per ticket—don’t miss out!Save the Date: The official competition results drop in November. Check out gwsaa.com to see which wines take home top honors!Tickets are selling fast—grab yours now and uncork the adventure!\n\n\nPurchase or redeem with Asia Miles from Cathay Shop 
URL:https://mwminternational.com/events/typ-50-4/
LOCATION:MWM Wine School\, 9th Floor\, Aberdeen Industrial Building\, 236 Aberdeen Main Road\, Aberdeen\, Hong Kong
CATEGORIES:Festival,TYP50,Wine
ATTACH;FMTTYPE=image/png:https://mwminternational.com/wp-content/uploads/2026/04/TYP50.png
ORGANIZER;CN="MWM Wine School":MAILTO:school@mwminternational.com
END:VEVENT
BEGIN:VEVENT
DTSTART;TZID=Asia/Hong_Kong:20261022T180000
DTEND;TZID=Asia/Hong_Kong:20261022T203000
DTSTAMP:20260426T080531
CREATED:20260409T092304Z
LAST-MODIFIED:20260409T094453Z
UID:10000555-1792692000-1792701000@mwminternational.com
SUMMARY:TYP 50+
DESCRIPTION:Sip\, swirl\, and savor over 150 exceptional wines from around the world at this exclusive tasting experience. Meet the renowned judges of the Cathay Global Wine & Spirits Awards Asia\, sharpen your tasting skills like a pro\, and compare notes as you explore standout bottles from both Old and New World wineries—including rare selections not yet available in Hong Kong and contenders for Gold and Trophy awards!Flash Offer! The first 50 paid ticket buyers will receive a Spiegelau Superiore Bordeaux wine glass (HK$220 value) free! One glass per ticket—don’t miss out!Save the Date: The official competition results drop in November. Check out gwsaa.com to see which wines take home top honors!Tickets are selling fast—grab yours now and uncork the adventure!\n\n\nPurchase or redeem with Asia Miles from Cathay Shop 
URL:https://mwminternational.com/events/typ-50-5/
LOCATION:MWM Wine School\, 9th Floor\, Aberdeen Industrial Building\, 236 Aberdeen Main Road\, Aberdeen\, Hong Kong
CATEGORIES:Festival,TYP50,Wine
ATTACH;FMTTYPE=image/png:https://mwminternational.com/wp-content/uploads/2026/04/TYP50.png
ORGANIZER;CN="MWM Wine School":MAILTO:school@mwminternational.com
END:VEVENT
BEGIN:VEVENT
DTSTART;TZID=Asia/Hong_Kong:20261126T180000
DTEND;TZID=Asia/Hong_Kong:20261126T203000
DTSTAMP:20260426T080531
CREATED:20260409T092504Z
LAST-MODIFIED:20260409T094503Z
UID:10000556-1795716000-1795725000@mwminternational.com
SUMMARY:TYP 50+
DESCRIPTION:Sip\, swirl\, and savor over 150 exceptional wines from around the world at this exclusive tasting experience. Meet the renowned judges of the Cathay Global Wine & Spirits Awards Asia\, sharpen your tasting skills like a pro\, and compare notes as you explore standout bottles from both Old and New World wineries—including rare selections not yet available in Hong Kong and contenders for Gold and Trophy awards!Flash Offer! The first 50 paid ticket buyers will receive a Spiegelau Superiore Bordeaux wine glass (HK$220 value) free! One glass per ticket—don’t miss out!Save the Date: The official competition results drop in November. Check out gwsaa.com to see which wines take home top honors!Tickets are selling fast—grab yours now and uncork the adventure!\n\n\nPurchase or redeem with Asia Miles from Cathay Shop 
URL:https://mwminternational.com/events/typ-50-6/
LOCATION:MWM Wine School\, 9th Floor\, Aberdeen Industrial Building\, 236 Aberdeen Main Road\, Aberdeen\, Hong Kong
CATEGORIES:Festival,TYP50,Wine
ATTACH;FMTTYPE=image/png:https://mwminternational.com/wp-content/uploads/2026/04/TYP50.png
ORGANIZER;CN="MWM Wine School":MAILTO:school@mwminternational.com
END:VEVENT
BEGIN:VEVENT
DTSTART;TZID=Asia/Hong_Kong:20261217T180000
DTEND;TZID=Asia/Hong_Kong:20261217T203000
DTSTAMP:20260426T080531
CREATED:20260409T092628Z
LAST-MODIFIED:20260409T094517Z
UID:10000557-1797530400-1797539400@mwminternational.com
SUMMARY:TYP 50+
DESCRIPTION:Sip\, swirl\, and savor over 150 exceptional wines from around the world at this exclusive tasting experience. Meet the renowned judges of the Cathay Global Wine & Spirits Awards Asia\, sharpen your tasting skills like a pro\, and compare notes as you explore standout bottles from both Old and New World wineries—including rare selections not yet available in Hong Kong and contenders for Gold and Trophy awards!Flash Offer! The first 50 paid ticket buyers will receive a Spiegelau Superiore Bordeaux wine glass (HK$220 value) free! One glass per ticket—don’t miss out!Save the Date: The official competition results drop in November. Check out gwsaa.com to see which wines take home top honors!Tickets are selling fast—grab yours now and uncork the adventure!\n\n\nPurchase or redeem with Asia Miles from Cathay Shop 
URL:https://mwminternational.com/events/typ-50-7/
LOCATION:MWM Wine School\, 9th Floor\, Aberdeen Industrial Building\, 236 Aberdeen Main Road\, Aberdeen\, Hong Kong
CATEGORIES:Festival,TYP50,Wine
ATTACH;FMTTYPE=image/png:https://mwminternational.com/wp-content/uploads/2026/04/TYP50.png
ORGANIZER;CN="MWM Wine School":MAILTO:school@mwminternational.com
END:VEVENT
END:VCALENDAR