BEGIN:VCALENDAR
VERSION:2.0
PRODID:-//Meiburg Wine Media - ECPv6.15.14//NONSGML v1.0//EN
CALSCALE:GREGORIAN
METHOD:PUBLISH
X-ORIGINAL-URL:https://mwminternational.com
X-WR-CALDESC:Events for Meiburg Wine Media
REFRESH-INTERVAL;VALUE=DURATION:PT1H
X-Robots-Tag:noindex
X-PUBLISHED-TTL:PT1H
BEGIN:VTIMEZONE
TZID:Asia/Hong_Kong
BEGIN:STANDARD
TZOFFSETFROM:+0800
TZOFFSETTO:+0800
TZNAME:HKT
DTSTART:20200101T000000
END:STANDARD
END:VTIMEZONE
BEGIN:VEVENT
DTSTART;TZID=Asia/Hong_Kong:20220820T100000
DTEND;TZID=Asia/Hong_Kong:20220903T183000
DTSTAMP:20260425T201551
CREATED:20220525T075528Z
LAST-MODIFIED:20220812T052254Z
UID:10000114-1660989600-1662229800@mwminternational.com
SUMMARY:The Advanced Whisky Ambassador
DESCRIPTION:11 Sep 2022 (Sunday) - 10am-6:30pm \nExam: 11 Sep 2022 (same day) - after class \n \nThe Whisky Ambassador - The first certificate training in Macau \nWhisky Ambassador is designed for anyone who wishes to gain thorough knowledge and confidence around whisky. The program is recognised by BIIAB\, UK’s leading provider of qualifications for the licensed trade. Upon completion\, participants will get the prestigious The Whisky Ambassador’ BIIAB accredited certificate. \nSpecial Offer: \n\n10% off for 2 persons or above\n\nThe Whisky Ambassador course covers: \n\n\nWhisky Areas of Scotland and influence to the Style \n\n\nHistory of Scotch Whisky \n\n\nWhisky Production\, and the Categories of Whisky explained (single malt\, single grain\, blended\, blended malt\, blended grain) \n\n\nNosing and tasting\, in a systematic approach \n\n\nWhisky Mixers and Cocktails \n\n\nWhisky Sales Technique \n\n\nAt the end of the training\, you can attend the exam to acquire The Whisky Ambassador Certificate.  \n6 whiskies for guided tasting\, including all categories of Scotch whiskies \nPrerequisite\nAll applicants must be over 18+ \nExamination\n45 minutes Exam \n30 multiple-choice questions (70% passing grade)A practical tasting testVenue\nWine Hub Macau / MWM Wine School \n \nEddie Nara CSEEddie is a renowned spirits industry leader and Whisky & Gin Ambassador lead tutor for HK\, Macau and China. He is Asia’s 1st Certified Spirits Educator accredited by the Society of Wine Educators\, an International Spirits judge for IWSC and HKIWSC and an esteemed cocktail judge. Although known for his passion for all spirits\, Eddie has a deep knowledge and understanding of both Scotch and world whiskies. Eddie’s commitment to education is invaluable to the industry and he is a mentor and inspiration to many aspiring bar professionals across Asia. \n  \n \nThe Whisky AmbassadorThe Whisky Ambassador programme is the original accredited Scotch Whisky training course. Designed both for the Licensed trade and those seeking a comprehensive grasp of Scotch\, the course gives you the knowledge\, skills and confidence to talk to customers about Scotland’s national drink\, furthermore improving customer experience and exponentially increasing sales of Scotland in a glass.® Having been established for a number of years in Scotland\, the Whisky Ambassador’s emphasis on immersive and interactive learning has seen our courses rapidly expand to spread intimate knowledge of Scotch whisky across 22 countries and six continents. \nIn collaboration with  \nMacau Sommelier Association \n \nWine Hub Macau
URL:https://mwminternational.com/events/the-advanced-whisky-ambassador-3/
LOCATION:MWM Wine School\, 9th Floor\, Aberdeen Industrial Building\, 236 Aberdeen Main Road\, Aberdeen\, Hong Kong
CATEGORIES:Certificate Course,Spirits,Whisky Ambassador
ORGANIZER;CN="MWM Wine School":MAILTO:school@mwminternational.com
END:VEVENT
BEGIN:VEVENT
DTSTART;TZID=Asia/Hong_Kong:20220731T100000
DTEND;TZID=Asia/Hong_Kong:20220731T183000
DTSTAMP:20260425T201551
CREATED:20220604T094217Z
LAST-MODIFIED:20220621T111225Z
UID:10000248-1659261600-1659292200@mwminternational.com
SUMMARY:The Whisky Ambassador (Macau)
DESCRIPTION:11 Sep 2022 (Sunday) - 10am-6:30pm \nExam: 11 Sep 2022 (same day) - after class \n \nThe Whisky Ambassador - The first certificate training in Macau \nWhisky Ambassador is designed for anyone who wishes to gain thorough knowledge and confidence around whisky. The program is recognised by BIIAB\, UK’s leading provider of qualifications for the licensed trade. Upon completion\, participants will get the prestigious The Whisky Ambassador’ BIIAB accredited certificate. \nSpecial Offer: \n\n10% off for 2 persons or above\n\nThe Whisky Ambassador course covers: \n\n\nWhisky Areas of Scotland and influence to the Style \n\n\nHistory of Scotch Whisky \n\n\nWhisky Production\, and the Categories of Whisky explained (single malt\, single grain\, blended\, blended malt\, blended grain) \n\n\nNosing and tasting\, in a systematic approach \n\n\nWhisky Mixers and Cocktails \n\n\nWhisky Sales Technique \n\n\nAt the end of the training\, you can attend the exam to acquire The Whisky Ambassador Certificate.  \n6 whiskies for guided tasting\, including all categories of Scotch whiskies \nPrerequisite\nAll applicants must be over 18+ \nExamination\n45 minutes Exam \n30 multiple-choice questions (70% passing grade)A practical tasting testVenue\nWine Hub Macau / MWM Wine School \n \nEddie Nara CSEEddie is a renowned spirits industry leader and Whisky & Gin Ambassador lead tutor for HK\, Macau and China. He is Asia’s 1st Certified Spirits Educator accredited by the Society of Wine Educators\, an International Spirits judge for IWSC and HKIWSC and an esteemed cocktail judge. Although known for his passion for all spirits\, Eddie has a deep knowledge and understanding of both Scotch and world whiskies. Eddie’s commitment to education is invaluable to the industry and he is a mentor and inspiration to many aspiring bar professionals across Asia. \n  \n \nThe Whisky AmbassadorThe Whisky Ambassador programme is the original accredited Scotch Whisky training course. Designed both for the Licensed trade and those seeking a comprehensive grasp of Scotch\, the course gives you the knowledge\, skills and confidence to talk to customers about Scotland’s national drink\, furthermore improving customer experience and exponentially increasing sales of Scotland in a glass.® Having been established for a number of years in Scotland\, the Whisky Ambassador’s emphasis on immersive and interactive learning has seen our courses rapidly expand to spread intimate knowledge of Scotch whisky across 22 countries and six continents. \nIn collaboration with  \nMacau Sommelier Association \n \nWine Hub Macau
URL:https://mwminternational.com/events/the-whisky-ambassador-macau/
LOCATION:Wine Hub Macau\, No. 4A R/C Travessa De Martinho Montenegro Edf. Nga San D Building\,\, Macau
CATEGORIES:Certificate Course,Spirits,Whisky Ambassador
ATTACH;FMTTYPE=image/jpeg:https://mwminternational.com/wp-content/uploads/2022/06/Whisky-Ambassador-macau-2022-12.jpg
END:VEVENT
BEGIN:VEVENT
DTSTART;TZID=Asia/Hong_Kong:20220605T100000
DTEND;TZID=Asia/Hong_Kong:20220626T173000
DTSTAMP:20260425T201551
CREATED:20220331T104916Z
LAST-MODIFIED:20220530T071944Z
UID:10000241-1654423200-1656264600@mwminternational.com
SUMMARY:The Advanced Whisky Ambassador
DESCRIPTION:11 Sep 2022 (Sunday) - 10am-6:30pm \nExam: 11 Sep 2022 (same day) - after class \n \nThe Whisky Ambassador - The first certificate training in Macau \nWhisky Ambassador is designed for anyone who wishes to gain thorough knowledge and confidence around whisky. The program is recognised by BIIAB\, UK’s leading provider of qualifications for the licensed trade. Upon completion\, participants will get the prestigious The Whisky Ambassador’ BIIAB accredited certificate. \nSpecial Offer: \n\n10% off for 2 persons or above\n\nThe Whisky Ambassador course covers: \n\n\nWhisky Areas of Scotland and influence to the Style \n\n\nHistory of Scotch Whisky \n\n\nWhisky Production\, and the Categories of Whisky explained (single malt\, single grain\, blended\, blended malt\, blended grain) \n\n\nNosing and tasting\, in a systematic approach \n\n\nWhisky Mixers and Cocktails \n\n\nWhisky Sales Technique \n\n\nAt the end of the training\, you can attend the exam to acquire The Whisky Ambassador Certificate.  \n6 whiskies for guided tasting\, including all categories of Scotch whiskies \nPrerequisite\nAll applicants must be over 18+ \nExamination\n45 minutes Exam \n30 multiple-choice questions (70% passing grade)A practical tasting testVenue\nWine Hub Macau / MWM Wine School \n \nEddie Nara CSEEddie is a renowned spirits industry leader and Whisky & Gin Ambassador lead tutor for HK\, Macau and China. He is Asia’s 1st Certified Spirits Educator accredited by the Society of Wine Educators\, an International Spirits judge for IWSC and HKIWSC and an esteemed cocktail judge. Although known for his passion for all spirits\, Eddie has a deep knowledge and understanding of both Scotch and world whiskies. Eddie’s commitment to education is invaluable to the industry and he is a mentor and inspiration to many aspiring bar professionals across Asia. \n  \n \nThe Whisky AmbassadorThe Whisky Ambassador programme is the original accredited Scotch Whisky training course. Designed both for the Licensed trade and those seeking a comprehensive grasp of Scotch\, the course gives you the knowledge\, skills and confidence to talk to customers about Scotland’s national drink\, furthermore improving customer experience and exponentially increasing sales of Scotland in a glass.® Having been established for a number of years in Scotland\, the Whisky Ambassador’s emphasis on immersive and interactive learning has seen our courses rapidly expand to spread intimate knowledge of Scotch whisky across 22 countries and six continents. \nIn collaboration with  \nMacau Sommelier Association \n \nWine Hub Macau
URL:https://mwminternational.com/events/the-advanced-whisky-ambassador/
LOCATION:MWM Wine School\, 9th Floor\, Aberdeen Industrial Building\, 236 Aberdeen Main Road\, Aberdeen\, Hong Kong
CATEGORIES:Certificate Course,Spirits,Whisky Ambassador
ATTACH;FMTTYPE=image/jpeg:https://mwminternational.com/wp-content/uploads/2022/03/Whisky-Ambassador-2022-08.jpg
ORGANIZER;CN="MWM Wine School":MAILTO:school@mwminternational.com
END:VEVENT
BEGIN:VEVENT
DTSTART;TZID=Asia/Hong_Kong:20220312T100000
DTEND;TZID=Asia/Hong_Kong:20220312T173000
DTSTAMP:20260425T201551
CREATED:20220210T041621Z
LAST-MODIFIED:20220303T103708Z
UID:10000226-1647079200-1647106200@mwminternational.com
SUMMARY:The Whisky Ambassador Certificate Training & Beyond (Course available by zoom)
DESCRIPTION:11 Sep 2022 (Sunday) - 10am-6:30pm \nExam: 11 Sep 2022 (same day) - after class \n \nThe Whisky Ambassador - The first certificate training in Macau \nWhisky Ambassador is designed for anyone who wishes to gain thorough knowledge and confidence around whisky. The program is recognised by BIIAB\, UK’s leading provider of qualifications for the licensed trade. Upon completion\, participants will get the prestigious The Whisky Ambassador’ BIIAB accredited certificate. \nSpecial Offer: \n\n10% off for 2 persons or above\n\nThe Whisky Ambassador course covers: \n\n\nWhisky Areas of Scotland and influence to the Style \n\n\nHistory of Scotch Whisky \n\n\nWhisky Production\, and the Categories of Whisky explained (single malt\, single grain\, blended\, blended malt\, blended grain) \n\n\nNosing and tasting\, in a systematic approach \n\n\nWhisky Mixers and Cocktails \n\n\nWhisky Sales Technique \n\n\nAt the end of the training\, you can attend the exam to acquire The Whisky Ambassador Certificate.  \n6 whiskies for guided tasting\, including all categories of Scotch whiskies \nPrerequisite\nAll applicants must be over 18+ \nExamination\n45 minutes Exam \n30 multiple-choice questions (70% passing grade)A practical tasting testVenue\nWine Hub Macau / MWM Wine School \n \nEddie Nara CSEEddie is a renowned spirits industry leader and Whisky & Gin Ambassador lead tutor for HK\, Macau and China. He is Asia’s 1st Certified Spirits Educator accredited by the Society of Wine Educators\, an International Spirits judge for IWSC and HKIWSC and an esteemed cocktail judge. Although known for his passion for all spirits\, Eddie has a deep knowledge and understanding of both Scotch and world whiskies. Eddie’s commitment to education is invaluable to the industry and he is a mentor and inspiration to many aspiring bar professionals across Asia. \n  \n \nThe Whisky AmbassadorThe Whisky Ambassador programme is the original accredited Scotch Whisky training course. Designed both for the Licensed trade and those seeking a comprehensive grasp of Scotch\, the course gives you the knowledge\, skills and confidence to talk to customers about Scotland’s national drink\, furthermore improving customer experience and exponentially increasing sales of Scotland in a glass.® Having been established for a number of years in Scotland\, the Whisky Ambassador’s emphasis on immersive and interactive learning has seen our courses rapidly expand to spread intimate knowledge of Scotch whisky across 22 countries and six continents. \nIn collaboration with  \nMacau Sommelier Association \n \nWine Hub Macau
URL:https://mwminternational.com/events/whisky-ambassador-20220312/
LOCATION:MWM Wine School\, 9th Floor\, Aberdeen Industrial Building\, 236 Aberdeen Main Road\, Aberdeen\, Hong Kong
CATEGORIES:Certificate Course,Spirits,Whisky Ambassador
ATTACH;FMTTYPE=image/jpeg:https://mwminternational.com/wp-content/uploads/2022/02/Whisky-Ambassador-2022-03.jpg
ORGANIZER;CN="MWM Wine School":MAILTO:school@mwminternational.com
END:VEVENT
BEGIN:VEVENT
DTSTART;TZID=Asia/Hong_Kong:20220213T130000
DTEND;TZID=Asia/Hong_Kong:20220213T170000
DTSTAMP:20260425T201551
CREATED:20211212T114136Z
LAST-MODIFIED:20220126T090911Z
UID:10000092-1644757200-1644771600@mwminternational.com
SUMMARY:The Whisky Ambassador Certificate Training & Beyond
DESCRIPTION:11 Sep 2022 (Sunday) - 10am-6:30pm \nExam: 11 Sep 2022 (same day) - after class \n \nThe Whisky Ambassador - The first certificate training in Macau \nWhisky Ambassador is designed for anyone who wishes to gain thorough knowledge and confidence around whisky. The program is recognised by BIIAB\, UK’s leading provider of qualifications for the licensed trade. Upon completion\, participants will get the prestigious The Whisky Ambassador’ BIIAB accredited certificate. \nSpecial Offer: \n\n10% off for 2 persons or above\n\nThe Whisky Ambassador course covers: \n\n\nWhisky Areas of Scotland and influence to the Style \n\n\nHistory of Scotch Whisky \n\n\nWhisky Production\, and the Categories of Whisky explained (single malt\, single grain\, blended\, blended malt\, blended grain) \n\n\nNosing and tasting\, in a systematic approach \n\n\nWhisky Mixers and Cocktails \n\n\nWhisky Sales Technique \n\n\nAt the end of the training\, you can attend the exam to acquire The Whisky Ambassador Certificate.  \n6 whiskies for guided tasting\, including all categories of Scotch whiskies \nPrerequisite\nAll applicants must be over 18+ \nExamination\n45 minutes Exam \n30 multiple-choice questions (70% passing grade)A practical tasting testVenue\nWine Hub Macau / MWM Wine School \n \nEddie Nara CSEEddie is a renowned spirits industry leader and Whisky & Gin Ambassador lead tutor for HK\, Macau and China. He is Asia’s 1st Certified Spirits Educator accredited by the Society of Wine Educators\, an International Spirits judge for IWSC and HKIWSC and an esteemed cocktail judge. Although known for his passion for all spirits\, Eddie has a deep knowledge and understanding of both Scotch and world whiskies. Eddie’s commitment to education is invaluable to the industry and he is a mentor and inspiration to many aspiring bar professionals across Asia. \n  \n \nThe Whisky AmbassadorThe Whisky Ambassador programme is the original accredited Scotch Whisky training course. Designed both for the Licensed trade and those seeking a comprehensive grasp of Scotch\, the course gives you the knowledge\, skills and confidence to talk to customers about Scotland’s national drink\, furthermore improving customer experience and exponentially increasing sales of Scotland in a glass.® Having been established for a number of years in Scotland\, the Whisky Ambassador’s emphasis on immersive and interactive learning has seen our courses rapidly expand to spread intimate knowledge of Scotch whisky across 22 countries and six continents. \nIn collaboration with  \nMacau Sommelier Association \n \nWine Hub Macau
URL:https://mwminternational.com/events/the-whisky-ambassador-certificate-training-beyond/
LOCATION:MWM Wine School\, 9th Floor\, Aberdeen Industrial Building\, 236 Aberdeen Main Road\, Aberdeen\, Hong Kong
CATEGORIES:Certificate Course,Spirits,Whisky Ambassador
ATTACH;FMTTYPE=image/jpeg:https://mwminternational.com/wp-content/uploads/2021/12/Whisky-Ambassador-2022-01-1-scaled.jpg
ORGANIZER;CN="MWM Wine School":MAILTO:school@mwminternational.com
END:VEVENT
BEGIN:VEVENT
DTSTART;TZID=Asia/Hong_Kong:20211205T130000
DTEND;TZID=Asia/Hong_Kong:20211212T180000
DTSTAMP:20260425T201551
CREATED:20201221T050413Z
LAST-MODIFIED:20211026T071156Z
UID:10000157-1638709200-1639332000@mwminternational.com
SUMMARY:The Whisky Ambassador Certificate Training & Beyond
DESCRIPTION:11 Sep 2022 (Sunday) - 10am-6:30pm \nExam: 11 Sep 2022 (same day) - after class \n \nThe Whisky Ambassador - The first certificate training in Macau \nWhisky Ambassador is designed for anyone who wishes to gain thorough knowledge and confidence around whisky. The program is recognised by BIIAB\, UK’s leading provider of qualifications for the licensed trade. Upon completion\, participants will get the prestigious The Whisky Ambassador’ BIIAB accredited certificate. \nSpecial Offer: \n\n10% off for 2 persons or above\n\nThe Whisky Ambassador course covers: \n\n\nWhisky Areas of Scotland and influence to the Style \n\n\nHistory of Scotch Whisky \n\n\nWhisky Production\, and the Categories of Whisky explained (single malt\, single grain\, blended\, blended malt\, blended grain) \n\n\nNosing and tasting\, in a systematic approach \n\n\nWhisky Mixers and Cocktails \n\n\nWhisky Sales Technique \n\n\nAt the end of the training\, you can attend the exam to acquire The Whisky Ambassador Certificate.  \n6 whiskies for guided tasting\, including all categories of Scotch whiskies \nPrerequisite\nAll applicants must be over 18+ \nExamination\n45 minutes Exam \n30 multiple-choice questions (70% passing grade)A practical tasting testVenue\nWine Hub Macau / MWM Wine School \n \nEddie Nara CSEEddie is a renowned spirits industry leader and Whisky & Gin Ambassador lead tutor for HK\, Macau and China. He is Asia’s 1st Certified Spirits Educator accredited by the Society of Wine Educators\, an International Spirits judge for IWSC and HKIWSC and an esteemed cocktail judge. Although known for his passion for all spirits\, Eddie has a deep knowledge and understanding of both Scotch and world whiskies. Eddie’s commitment to education is invaluable to the industry and he is a mentor and inspiration to many aspiring bar professionals across Asia. \n  \n \nThe Whisky AmbassadorThe Whisky Ambassador programme is the original accredited Scotch Whisky training course. Designed both for the Licensed trade and those seeking a comprehensive grasp of Scotch\, the course gives you the knowledge\, skills and confidence to talk to customers about Scotland’s national drink\, furthermore improving customer experience and exponentially increasing sales of Scotland in a glass.® Having been established for a number of years in Scotland\, the Whisky Ambassador’s emphasis on immersive and interactive learning has seen our courses rapidly expand to spread intimate knowledge of Scotch whisky across 22 countries and six continents. \nIn collaboration with  \nMacau Sommelier Association \n \nWine Hub Macau
URL:https://mwminternational.com/events/whisky-ambassador-2021-12-05/
LOCATION:MWM Wine School\, 9th Floor\, Aberdeen Industrial Building\, 236 Aberdeen Main Road\, Aberdeen\, Hong Kong
CATEGORIES:Certificate Course,Spirits,Whisky Ambassador
ATTACH;FMTTYPE=image/jpeg:https://mwminternational.com/wp-content/uploads/2020/12/WA_Facebook-scaled.jpg
ORGANIZER;CN="MWM Wine School":MAILTO:school@mwminternational.com
END:VEVENT
END:VCALENDAR